BEGIN:VCALENDAR
PRODID:NingEventWidget-v1
VERSION:2.0
METHOD:PUBLISH
BEGIN:VTIMEZONE
TZID:Europe/London
X-LIC-LOCATION:Europe/London
BEGIN:DAYLIGHT
TZOFFSETFROM:+0000
TZOFFSETTO:+0100
TZNAME:BST
DTSTART:19700329T010000
RRULE:FREQ=YEARLY;BYMONTH=3;BYDAY=-1SU
END:DAYLIGHT
BEGIN:STANDARD
TZOFFSETFROM:+0100
TZOFFSETTO:+0000
TZNAME:GMT
DTSTART:19701025T020000
RRULE:FREQ=YEARLY;BYMONTH=10;BYDAY=-1SU
END:STANDARD
END:VTIMEZONE
BEGIN:VEVENT
UID:844301:Event:1501691
DTSTAMP:20260422T151749Z
SUMMARY:Introduction to Creative Writing (parts 1 and 2) with Alison C
 handler
DESCRIPTION:Introduction to Creative Writing Part 1 with Alison Chandl
 er\nStarting to write is so much easier with a support network.\nOur I
 ntroduction to Creative Writing course will help you explore the tools
  available to you as a writer in an environment designed to support yo
 u as a human being. Whether you’re starting from the very beginning 
 or returning to writing, join us and feel your confidence grow as we d
 iscuss and practice - and you begin to tell the stories you want to te
 ll.\nWeek 1) Character-building.\nWeek 2) Setting – where am I?\nWee
 k 3) Dialogue – talk to me.\nWeek 4) Point of view – whose eyes am
  I looking through?\nWeek 5) Plot versus story. Structure.\nWeek 6) Be
 ginnings and endings.\nZoom delivery. Cost £140. Tuesdays 10.30am-1pm
 ; Sept 13, 20, 27, Oct 4, 11, 18.\nIntroduction to Creative Writing Pa
 rt 2 with Alison Chandler\nIntroduction to Creative Writing Part 2 fol
 lows on from Part 1 but newcomers are very welcome.\nThis set of six s
 essions builds on the fundamentals of storytelling, looking in detail 
 at ways to develop a sophisticated narrative and a sense of what your 
 writing communicates to a reader. As with Part 1, the emphasis is on s
 upporting you as a writer in a friendly, positive and constructive env
 ironment where we all learn from each other.\nWeek 1) What kind of wri
 ter am I? A look at genre.\nWeek 2) Character relationships – friend
 s and enemies.\nWeek 3) Themes and motifs.\nWeek 4) Flash/short story/
 novella – thinking about form.\nWeek 5) Fiction and life-writing, fi
 ction in life-writing.\nWeek 6) Me and my reader.\nZoom delivery. Cost
  £140. Autumn Two: Part 2 Tuesdays 10.30am-1pm; Nov 8, 15, 22, 29, De
 c 6, 13\nIntro Creative Writing | Writing Room Org UK\n\nFor more info
 rmation visit https://harringayonline.com/events/introduction-to-creat
 ive-writing-parts-1-and-2-with-alison
DTSTART;TZID=Europe/London:20220913T103000
DTEND;TZID=Europe/London:20220913T130000
CATEGORIES:"creative writing foundation", "start to write", "supportiv
 e writing community"
LOCATION:Online via Zoom for writingroom.org
WEBSITE:https://www.writingroom.org.uk/courses/introduction-to-creativ
 e-writing
URL:https://www.writingroom.org.uk/courses/introduction-to-creative-wr
 iting
CONTACT:
ORGANIZER:Carmel for Writing Room
ATTACH;FMTTYPE="image/jpeg":https://storage.ning.com/topology/rest/1.0
 /file/get/10752317455?profile=original
ATTENDEE;ROLE=REQ-PARTICIPANT;PARTSTAT=ACCEPTED;RSVP=TRUE;CN=Carmel:ht
 tps://harringayonline.com/profile/Carmel
END:VEVENT
END:VCALENDAR
