BEGIN:VCALENDAR
PRODID:NingEventWidget-v1
VERSION:2.0
METHOD:PUBLISH
BEGIN:VTIMEZONE
TZID:Europe/London
X-LIC-LOCATION:Europe/London
BEGIN:DAYLIGHT
TZOFFSETFROM:+0000
TZOFFSETTO:+0100
TZNAME:BST
DTSTART:19700329T010000
RRULE:FREQ=YEARLY;BYMONTH=3;BYDAY=-1SU
END:DAYLIGHT
BEGIN:STANDARD
TZOFFSETFROM:+0100
TZOFFSETTO:+0000
TZNAME:GMT
DTSTART:19701025T020000
RRULE:FREQ=YEARLY;BYMONTH=10;BYDAY=-1SU
END:STANDARD
END:VTIMEZONE
BEGIN:VEVENT
UID:844301:Event:1639703
DTSTAMP:20260426T010121Z
SUMMARY:Insieme Free Lunchtime Concerts
DESCRIPTION:\n\n\nInsieme, Lauderdale House's Chamber Opera Ensemble i
 n Residence present a series of Free Thursday Lunchtime Concerts, feat
 uring a host of different musicians and pieces. All taking place in in
  the beautiful Long Gallery overlooking Waterlow Park. Doors will open
  at 1pm. The concert will begin at 1:15pm.\n\n\nFor more information v
 isit https://harringayonline.com/events/insieme-free-lunchtime-concert
 s
DTSTART;TZID=Europe/London:20260507T131500
DTEND;TZID=Europe/London:20260507T140000
CATEGORIES:opera, string, ensemble, chamber, music, concert
LOCATION:Lauderdale House
WEBSITE:https://www.lauderdalehouse.org.uk/whats-on/insieme-free-lunch
 time-concerts
URL:https://www.lauderdalehouse.org.uk/whats-on/insieme-free-lunchtime
 -concerts
CONTACT:02083488716
ORGANIZER;CN="Lauderdale House":https://harringayonline.com/profile/So
 phieSerrano
ATTACH;FMTTYPE="image/jpeg":https://storage.ning.com/topology/rest/1.0
 /file/get/31137481269?profile=original
ATTENDEE;ROLE=REQ-PARTICIPANT;PARTSTAT=ACCEPTED;RSVP=TRUE;CN="Lauderda
 le House":https://harringayonline.com/profile/SophieSerrano
END:VEVENT
END:VCALENDAR
