BEGIN:VCALENDAR
PRODID:NingEventWidget-v1
VERSION:2.0
METHOD:PUBLISH
BEGIN:VTIMEZONE
TZID:Europe/London
X-LIC-LOCATION:Europe/London
BEGIN:DAYLIGHT
TZOFFSETFROM:+0000
TZOFFSETTO:+0100
TZNAME:BST
DTSTART:19700329T010000
RRULE:FREQ=YEARLY;BYMONTH=3;BYDAY=-1SU
END:DAYLIGHT
BEGIN:STANDARD
TZOFFSETFROM:+0100
TZOFFSETTO:+0000
TZNAME:GMT
DTSTART:19701025T020000
RRULE:FREQ=YEARLY;BYMONTH=10;BYDAY=-1SU
END:STANDARD
END:VTIMEZONE
BEGIN:VEVENT
UID:844301:Event:1518984
DTSTAMP:20260424T162701Z
SUMMARY:In All Languages-The Music of Ornette Coleman
DESCRIPTION:**UPDATE 07/12/22 -  THIS EVENT HAS BEEN CANCELLED BY THE
  BAND DUE TO UNFORESEEN CIRCUMSTANCES.  We would like to sincerely ap
 ologise for any inconvenience caused, the gig will be rescheduled in t
 he new year.**\n\nMartin Speake (alto saxophone); Alyson Cawley (tenor
  saxophone); James Owston (double bass); Adam Merrell (drums);\nWe are
  delighted to welcome award-winning saxophonist Martin Speake, one of 
 the most fluent and creative musicians and composers in the UK.\n“A 
 saxophonist with an unusual turn of phrase, a persuasively gentle soun
 d … Martin Speake is not just a distinctive improviser but a strikin
 g composer too” – John Fordham, The Guardian\nVideo clip 1 - http
 s://www.youtube.com/watch?v=XegPkpHv8NE\nVideo clip 2 - https://www.y
 outube.com/watch?v=odAp8l8dhwU\nMartin Speake says: \"I have been draw
 n to Ornette’s music since I began playing alto saxophone nearly 50 
 years ago. In 1974 after I had left school at 16, I was working in an 
 office and saved up enough money to buy a saxophone after realising th
 ere must be more to life than filling out motor insurance claim forms 
 and staring at the office clock hoping it would get to 5pm quickly eac
 h day.\nOrnette was an early influence and the album Live At The Golde
 n Circle was the first I purchased (along with Bird and Diz) and the t
 une Dee Dee was the first I tried to learn. The saxophone I bought was
  a white plastic Grafton alto as I had seen a photo of Ornette with on
 e on those early Atlantic Records albums.\nOver the years in my musica
 l and personal development I have a returned to Ornette Coleman and Ch
 arlie Parker for further inspiration and each time discovering somethi
 ng new about them and deepening my connection with this music. I have 
 had projects playing this music with like minded souls over the years.
 \nI am going through an Ornette period again now and have transcribed 
 many of these wonderful melodies. In fact working out these tunes has 
 kept me going through this challenging period in our history. This new
  band are all more recent collaborators and is wonderful to hear how t
 hey interpret these melodies as inspirations for improvising together 
 and telling their own story.\nMany of Ornette’s melodies have become
  ‘standards’ being played by many musicians all over the world suc
 h as Lonely Woman, Ramblin’ and Law Years but there are many undisco
 vered gems that are not played as often or at all by others.\nWe have 
 90 tunes to draw on already and the repertoire is growing.\nThis music
  is endless. Ornette is the supreme melodist.\"\nDo not miss this spec
 ial evening \"In All Languages\"\n\nDoors open at 7pm, music starts a
 t 8pm. Please book a ticket in advance.\nTickets £5-10\nhttps://www.m
 usicglue.com/karamel\nVENUE: MAAD (fka Karamel), 4 Coburg Rd, Wood Gre
 en, London N22 6UJ\nThe premises has a fresh air ventilation system in
 stalled throughout the restaurant and theatre. Menu is available at ma
 ad.co\n\nFor more information visit https://harringayonline.com/events
 /in-all-languages-the-music-of-ornette-coleman
DTSTART;TZID=Europe/London:20221208T200000
DTEND;TZID=Europe/London:20221208T220000
CATEGORIES:jazz, music, live
LOCATION:MAAD, 4 Coburg Road, London N22 6UJ
WEBSITE:https://www.musicglue.com/karamel
URL:https://www.musicglue.com/karamel
CONTACT:
ORGANIZER;CN="Collage Arts":https://harringayonline.com/profile/Chocol
 ateFactory
ATTACH;FMTTYPE="image/jpeg":https://storage.ning.com/topology/rest/1.0
 /file/get/10895247857?profile=original
ATTENDEE;ROLE=REQ-PARTICIPANT;PARTSTAT=ACCEPTED;RSVP=TRUE;CN="Collage 
 Arts":https://harringayonline.com/profile/ChocolateFactory
END:VEVENT
END:VCALENDAR
