BEGIN:VCALENDAR
PRODID:NingEventWidget-v1
VERSION:2.0
METHOD:PUBLISH
BEGIN:VTIMEZONE
TZID:Europe/London
X-LIC-LOCATION:Europe/London
BEGIN:DAYLIGHT
TZOFFSETFROM:+0000
TZOFFSETTO:+0100
TZNAME:BST
DTSTART:19700329T010000
RRULE:FREQ=YEARLY;BYMONTH=3;BYDAY=-1SU
END:DAYLIGHT
BEGIN:STANDARD
TZOFFSETFROM:+0100
TZOFFSETTO:+0000
TZNAME:GMT
DTSTART:19701025T020000
RRULE:FREQ=YEARLY;BYMONTH=10;BYDAY=-1SU
END:STANDARD
END:VTIMEZONE
BEGIN:VEVENT
UID:844301:Event:1524896
DTSTAMP:20260425T044833Z
SUMMARY:Holocaust Memorial Day Multi-Faith Commemorative Event
DESCRIPTION:Haringey Holocaust Memorial Day Commemorative Event which 
 will include speeches from local MPs, the Mayor of Haringey, the Leade
 r of the council, councillors and a Holocaust survivor.\r\nThere will 
 be music and light refreshments.\r\nThe event is open to all, but plea
 se book a ticket via Eventbrite\n\nFor more information visit https:/
 /harringayonline.com/events/holocaust-memorial-day-multi-faith-commemo
 rative-event
DTSTART;TZID=Europe/London:20230129T140000
DTEND;TZID=Europe/London:20230129T173000
CATEGORIES:commemoration
LOCATION:Tottenham Hotspur Football Club
WEBSITE:https://www.haringey.gov.uk/events/202301/haringey-holocaust-m
 emorial-day-commemorative-event
URL:https://www.haringey.gov.uk/events/202301/haringey-holocaust-memor
 ial-day-commemorative-event
CONTACT:
ORGANIZER;CN=Liz:https://harringayonline.com/profile/Liz
ATTACH;FMTTYPE="image/jpeg":https://storage.ning.com/topology/rest/1.0
 /file/get/10946285875?profile=original
ATTENDEE;ROLE=REQ-PARTICIPANT;PARTSTAT=ACCEPTED;RSVP=TRUE;CN=Liz:https
 ://harringayonline.com/profile/Liz
END:VEVENT
END:VCALENDAR
