BEGIN:VCALENDAR
PRODID:NingEventWidget-v1
VERSION:2.0
METHOD:PUBLISH
BEGIN:VTIMEZONE
TZID:Europe/London
X-LIC-LOCATION:Europe/London
BEGIN:DAYLIGHT
TZOFFSETFROM:+0000
TZOFFSETTO:+0100
TZNAME:BST
DTSTART:19700329T010000
RRULE:FREQ=YEARLY;BYMONTH=3;BYDAY=-1SU
END:DAYLIGHT
BEGIN:STANDARD
TZOFFSETFROM:+0100
TZOFFSETTO:+0000
TZNAME:GMT
DTSTART:19701025T020000
RRULE:FREQ=YEARLY;BYMONTH=10;BYDAY=-1SU
END:STANDARD
END:VTIMEZONE
BEGIN:VEVENT
UID:844301:Event:1504147
DTSTAMP:20260422T171032Z
SUMMARY:HIDDEN HISTORIES, WRITING FOR CHILDREN: Sunday Masterclass wit
 h J.T. WILLIAMS
DESCRIPTION:\n6 November, 11am-1pm; Zoom delivery, cost £25\nWhose st
 ories do we get to hear in historical fiction? How do we flip the narr
 ative to open up space to hear a more diverse range of voices? Using
  a rich range of archival material to inspire, this workshop explores 
 techniques to develop unique character perspectives and voices for co
 mpelling historical fiction for children.\nOne of a series of Sunday 
 Masterclasses from Writing Room this Autumn.\ncontact@writingroom.org.
 uk\n\nFor more information visit https://harringayonline.com/events/hi
 dden-histories-writing-for-children-sunday-masterclass-with-j-t
DTSTART;TZID=Europe/London:20221106T110000
DTEND;TZID=Europe/London:20221106T130000
CATEGORIES:"hidden histories", "writing for children", "narrative voic
 e"
LOCATION:Online via Zoom for Writing Room
WEBSITE:https://www.writingroom.org.uk/coursesandmasterclasses/sunday-
 masterclasses
URL:https://www.writingroom.org.uk/coursesandmasterclasses/sunday-mast
 erclasses
CONTACT:
ORGANIZER:Carmel for Writing Room
ATTACH;FMTTYPE="image/jpeg":https://storage.ning.com/topology/rest/1.0
 /file/get/10784293073?profile=original
ATTENDEE;ROLE=REQ-PARTICIPANT;PARTSTAT=ACCEPTED;RSVP=TRUE;CN=Carmel:ht
 tps://harringayonline.com/profile/Carmel
END:VEVENT
END:VCALENDAR
