BEGIN:VCALENDAR
PRODID:NingEventWidget-v1
VERSION:2.0
METHOD:PUBLISH
BEGIN:VTIMEZONE
TZID:Europe/London
X-LIC-LOCATION:Europe/London
BEGIN:DAYLIGHT
TZOFFSETFROM:+0000
TZOFFSETTO:+0100
TZNAME:BST
DTSTART:19700329T010000
RRULE:FREQ=YEARLY;BYMONTH=3;BYDAY=-1SU
END:DAYLIGHT
BEGIN:STANDARD
TZOFFSETFROM:+0100
TZOFFSETTO:+0000
TZNAME:GMT
DTSTART:19701025T020000
RRULE:FREQ=YEARLY;BYMONTH=10;BYDAY=-1SU
END:STANDARD
END:VTIMEZONE
BEGIN:VEVENT
UID:844301:Event:1502302
DTSTAMP:20260425T200524Z
SUMMARY:Harringay Village Fete
DESCRIPTION:The Harringay Village Fete is back! Bringing the best of t
 he English village fete into London.\nSaturday 10th September, 12-4pm,
  Wightman Road, N4 1RW\nFeaturing the popular Papa Gee's ice cream fac
 tory (1-2.30pm), baking competition, curry goat, bouncy castle, BBQ, c
 akes and patties stall, children's craft, press-up challenge, refreshm
 ents, and a chance to look round our unique church.\n\n\nFor more info
 rmation visit https://harringayonline.com/events/harringay-village-fet
 e-2
DTSTART;TZID=Europe/London:20220910T120000
DTEND;TZID=Europe/London:20220910T160000
CATEGORIES:community, fete, summer, competition, baking, children, fre
 e
LOCATION:St Paul's Harringay
WEBSITE:http://www.stpaulsharringay.com
URL:http://www.stpaulsharringay.com
CONTACT:020 8341 0390
ORGANIZER;CN=Pete:https://harringayonline.com/profile/PeteSnow
ATTACH;FMTTYPE="image/jpeg":https://storage.ning.com/topology/rest/1.0
 /file/get/10761257691?profile=original
ATTENDEE;ROLE=REQ-PARTICIPANT;PARTSTAT=ACCEPTED;RSVP=TRUE;CN=Pete:http
 s://harringayonline.com/profile/PeteSnow
END:VEVENT
END:VCALENDAR
