BEGIN:VCALENDAR
PRODID:NingEventWidget-v1
VERSION:2.0
METHOD:PUBLISH
BEGIN:VTIMEZONE
TZID:Europe/London
X-LIC-LOCATION:Europe/London
BEGIN:DAYLIGHT
TZOFFSETFROM:+0000
TZOFFSETTO:+0100
TZNAME:BST
DTSTART:19700329T010000
RRULE:FREQ=YEARLY;BYMONTH=3;BYDAY=-1SU
END:DAYLIGHT
BEGIN:STANDARD
TZOFFSETFROM:+0100
TZOFFSETTO:+0000
TZNAME:GMT
DTSTART:19701025T020000
RRULE:FREQ=YEARLY;BYMONTH=10;BYDAY=-1SU
END:STANDARD
END:VTIMEZONE
BEGIN:VEVENT
UID:844301:Event:1594500
DTSTAMP:20260423T130353Z
SUMMARY:Haringey Tree Protectors Xmas Social &amp; Art Auction! Sat 7t
 h Dec
DESCRIPTION:Love Trees - Love Art?\nJust a week to go until our FAB Ch
 ristmas ART Auction Social.\nWhen: Sat Dec 7 -  7pm\nWhere: Karamel C
 afe, N22.\nBrowse artworks from international and local artists here: 
 https://www.instagram.com/haringey_tree_protectors/\nPerfect for a uni
 que Christmas gift!\nThanks, Gio, Didi, Jo, Jane, Sarah, Jane HTP team
  \n\n\n\n\n\n\n\nFor more information visit https://harringayonline.co
 m/events/haringey-tree-protectors-xmas-social-amp-art-auction-sat-7th-
 de-1
DTSTART;TZID=Europe/London:20241207T190000
DTEND;TZID=Europe/London:20241207T220000
CATEGORIES:"art show", "art auction", "haringey tree protectoes", "nat
 ure art", "nature gifts", "karamel cafe"
LOCATION:Karamel Cafe, Coburg Road, N22
WEBSITE:https://g.co/kgs/j875x9B
URL:https://g.co/kgs/j875x9B
CONTACT:
ORGANIZER;CN="Giovanna iozzi":https://harringayonline.com/profile/Giov
 annaiozzi
ATTACH;FMTTYPE="image/jpeg":
ATTENDEE;ROLE=REQ-PARTICIPANT;PARTSTAT=ACCEPTED;RSVP=TRUE;CN="Giovanna
  iozzi":https://harringayonline.com/profile/Giovannaiozzi
END:VEVENT
END:VCALENDAR
