BEGIN:VCALENDAR
PRODID:NingEventWidget-v1
VERSION:2.0
METHOD:PUBLISH
BEGIN:VTIMEZONE
TZID:Europe/London
X-LIC-LOCATION:Europe/London
BEGIN:DAYLIGHT
TZOFFSETFROM:+0000
TZOFFSETTO:+0100
TZNAME:BST
DTSTART:19700329T010000
RRULE:FREQ=YEARLY;BYMONTH=3;BYDAY=-1SU
END:DAYLIGHT
BEGIN:STANDARD
TZOFFSETFROM:+0100
TZOFFSETTO:+0000
TZNAME:GMT
DTSTART:19701025T020000
RRULE:FREQ=YEARLY;BYMONTH=10;BYDAY=-1SU
END:STANDARD
END:VTIMEZONE
BEGIN:VEVENT
UID:844301:Event:1504966
DTSTAMP:20260425T215029Z
SUMMARY:Haringey Chess Club
DESCRIPTION:Haringey Chess Club\nFREE\nEvery 2nd and 4th Sunday of the
  month 1pm-3pm\nWood Green Library\nAll ages and levels welcome. Child
 ren please accompanied by an adult \n\nFor more information visit htt
 ps://harringayonline.com/events/haringey-chess-club
DTSTART;TZID=Europe/London:20220910T130000
DTEND;TZID=Europe/London:20220910T150000
CATEGORIES:chess, "chess club"
LOCATION:Wood Green Library
WEBSITE:
URL:
CONTACT:
ORGANIZER;CN="Huseyin Abudharr Ali":https://harringayonline.com/profil
 e/HuseyinAbudharrAli
ATTACH;FMTTYPE="image/jpeg":https://storage.ning.com/topology/rest/1.0
 /file/get/10795060668?profile=original
ATTENDEE;ROLE=REQ-PARTICIPANT;PARTSTAT=ACCEPTED;RSVP=TRUE;CN="Huseyin 
 Abudharr Ali":https://harringayonline.com/profile/HuseyinAbudharrAli
END:VEVENT
END:VCALENDAR
