BEGIN:VCALENDAR
PRODID:NingEventWidget-v1
VERSION:2.0
METHOD:PUBLISH
BEGIN:VTIMEZONE
TZID:Europe/London
X-LIC-LOCATION:Europe/London
BEGIN:DAYLIGHT
TZOFFSETFROM:+0000
TZOFFSETTO:+0100
TZNAME:BST
DTSTART:19700329T010000
RRULE:FREQ=YEARLY;BYMONTH=3;BYDAY=-1SU
END:DAYLIGHT
BEGIN:STANDARD
TZOFFSETFROM:+0100
TZOFFSETTO:+0000
TZNAME:GMT
DTSTART:19701025T020000
RRULE:FREQ=YEARLY;BYMONTH=10;BYDAY=-1SU
END:STANDARD
END:VTIMEZONE
BEGIN:VEVENT
UID:844301:Event:1632000
DTSTAMP:20260425T030659Z
SUMMARY:Haringey Borough FC - AFC Welwyn (H)
DESCRIPTION:Matchday 30 - Haringey Borough vs AFC Welwyn (KO @ 3PM)\nV
 enue - Coles Park Stadium, White Hart Lane, N17 7JP\nTickets - £10 Ad
 ults, £5 Concession, U18s free\nParking - Car and Bike spaces availab
 le\nDrink/Food - Available from clubhouse and bar\nClub Shop - Shirts,
  scarves, hats, bottles, bags etc\nTravel - \"Haringey Football Club\"
  bus stop serviced by the W3, Nearest train stations are \"Wood Green\
 " and \"White Hart Lane\"\n\n\nFor more information visit https://harr
 ingayonline.com/events/haringey-borough-fc-afc-welwyn-h
DTSTART;TZID=Europe/London:20260228T150000
DTEND;TZID=Europe/London:20260228T170000
CATEGORIES:hbfc, footy, football, social, cheap, community, drinks, fa
 mily, friends, sports, weekend, kids, youth, "haringey borough"
LOCATION:Coles Park Stadium
WEBSITE:
URL:
CONTACT:
ORGANIZER;CN="Tyrell Charles":https://harringayonline.com/profile/Tyre
 llCharles
ATTACH;FMTTYPE="image/jpeg":https://storage.ning.com/topology/rest/1.0
 /file/get/31081033666?profile=original
ATTENDEE;ROLE=REQ-PARTICIPANT;PARTSTAT=ACCEPTED;RSVP=TRUE;CN="Tyrell C
 harles":https://harringayonline.com/profile/TyrellCharles
END:VEVENT
END:VCALENDAR
