BEGIN:VCALENDAR
PRODID:NingEventWidget-v1
VERSION:2.0
METHOD:PUBLISH
BEGIN:VTIMEZONE
TZID:Europe/London
X-LIC-LOCATION:Europe/London
BEGIN:DAYLIGHT
TZOFFSETFROM:+0000
TZOFFSETTO:+0100
TZNAME:BST
DTSTART:19700329T010000
RRULE:FREQ=YEARLY;BYMONTH=3;BYDAY=-1SU
END:DAYLIGHT
BEGIN:STANDARD
TZOFFSETFROM:+0100
TZOFFSETTO:+0000
TZNAME:GMT
DTSTART:19701025T020000
RRULE:FREQ=YEARLY;BYMONTH=10;BYDAY=-1SU
END:STANDARD
END:VTIMEZONE
BEGIN:VEVENT
UID:844301:Event:1617734
DTSTAMP:20260423T041305Z
SUMMARY:Haringey Big Secret Safari Cycle Ride
DESCRIPTION:š£š“āāļøš“āāļø āØĀ ā Join our Big Secret
  Safari Ride on Saturday 13 SeptemberĀ ā aĀ family-friendly communit
 y ride from Lordship Rec cafe exploring Haringey's fantastic animal mu
 rals.\nRide details: šļø Date: Saturday 13 Sept ā° Start Times: F
 eeder rides at 10:00. Main Ride at 11:00 šFeeder rides start from: 
 Priory Park, Finsbury Pk and Down Lane Pk (see details below) šBig 
 Secret Safari ride starts from: Lordship Rec cafe š Finish: 13:00 i
 n Lordship Rec at the Tottenham Flower & Produce Festival.\nJoin us on
  a marshalled ride to visit wonderful animal murals dotted around Hari
 ngey.\nWe will travel on quiet local roads where we'll spot the varied
  animals in their Haringey habitats. This includes artworks of red pan
 das, polar bears and exotic birds by local artists including James Str
 affon.\nChildren are welcome! The ride is suitable for accompanied chi
 ldren who can pedal and control their bikes, as well as younger ones i
 n child seats.Ā \nPrizes will be handed out for the quickest shout-out
  identifying animals correctly.\nIf you want to join the ride from oth
 er parts of Haringey, you canĀ register hereĀ toĀ meet our marshals at
  the following locations and times:\n\nPriory ParkĀ basketball area (m
 eet 9.45am),\nAlexandra Palace ParkĀ exit by Newland Rd (meet 10am),\n
 Finsbury ParkĀ cafe (meet 9.45am),\nChestnuts ParkĀ cafe (meet 10am)Ā 
 \nDown Lane ParkĀ Pavillion (meet 10am)\n\nClick for more info andĀ re
 gister here.\nBring your friends and family!\nSee you there!\nš“āā
 ļøš“āāļø āØ\n\n\n\n\n\nFor more information visit https://h
 arringayonline.com/events/haringey-big-secret-safari-cycle-ride
DTSTART;TZID=Europe/London:20250913T100000
DTEND;TZID=Europe/London:20250913T130000
CATEGORIES:cycling, "cycle ride", community, festival
LOCATION:Lordship Rec cafe (+ Priory Pk + Finsbury Pk +Chestnuts Pk + 
 Down Lane Pk)
WEBSITE:https://lcc.org.uk/events/haringey-secret-safari-ride-13sept20
 25
URL:https://lcc.org.uk/events/haringey-secret-safari-ride-13sept2025
CONTACT:
ORGANIZER;CN="Haringey Cycling Campaign":https://harringayonline.com/p
 rofile/BenHouse382
ATTACH;FMTTYPE="image/jpeg":https://storage.ning.com/topology/rest/1.0
 /file/get/13706571457?profile=original
ATTENDEE;ROLE=REQ-PARTICIPANT;PARTSTAT=ACCEPTED;RSVP=TRUE;CN="Haringey
  Cycling Campaign":https://harringayonline.com/profile/BenHouse382
END:VEVENT
END:VCALENDAR
