BEGIN:VCALENDAR
PRODID:NingEventWidget-v1
VERSION:2.0
METHOD:PUBLISH
BEGIN:VTIMEZONE
TZID:Europe/London
X-LIC-LOCATION:Europe/London
BEGIN:DAYLIGHT
TZOFFSETFROM:+0000
TZOFFSETTO:+0100
TZNAME:BST
DTSTART:19700329T010000
RRULE:FREQ=YEARLY;BYMONTH=3;BYDAY=-1SU
END:DAYLIGHT
BEGIN:STANDARD
TZOFFSETFROM:+0100
TZOFFSETTO:+0000
TZNAME:GMT
DTSTART:19701025T020000
RRULE:FREQ=YEARLY;BYMONTH=10;BYDAY=-1SU
END:STANDARD
END:VTIMEZONE
BEGIN:VEVENT
UID:844301:Event:1512130
DTSTAMP:20260423T155151Z
SUMMARY:Halloween Zombie Walk + Ghost Stories
DESCRIPTION:Halloween Zombie Walk + Ghost Stories\nSat October 29th, 
 \n6pm / 7pm\nJoin one of London's biggst Zombie walks.\nSat October 29
 th, \n6pm / 7pm\n6pm Meet Stationers Park (N8 9LP)  \n6:30 Walk sta
 rts (Weston Park, Uplands, Rathcoole Garden, Tottenham Lane - 10 min) 
 to \nSt Mary’s Tower, Hornsey Village (N8 7NT)\n7pm Welcome from Fa
 ther Bruce\nScary Ghost stories & dark music\nEnd by 8pm\nA fun evenin
 g for all the family.\nDress as a Zombie, halloween or be creative. Be
 st dressed gets a prize.\n\n\nFor more information visit https://harri
 ngayonline.com/events/halloween-zombie-walk-ghost-stories
DTSTART;TZID=Europe/London:20221029T180000
DTEND;TZID=Europe/London:20221029T200000
CATEGORIES:"#crouchendfestival", "#zombiewalk", "#halloween"
LOCATION:St Mary's Tower, Hornsey Village, N8 7NT
WEBSITE:https://www.google.com/maps/place/St.+Mary&#039;s+Church+Tower
 /@51.5873377,-0.1157785,15z/data=!4m2!3m1!1s0x0:0x7b75ce4c27bb7376?sa=
 X&amp;ved=2ahUKEwigmo616en6AhULhv0HHTN_A1cQ_BJ6BAhqEB8
URL:https://www.google.com/maps/place/St.+Mary&#039;s+Church+Tower/@51
 .5873377,-0.1157785,15z/data=!4m2!3m1!1s0x0:0x7b75ce4c27bb7376?sa=X&am
 p;ved=2ahUKEwigmo616en6AhULhv0HHTN_A1cQ_BJ6BAhqEB8
CONTACT:07778056686
ORGANIZER;CN="Crouch End Festival":https://harringayonline.com/profile
 /CrouchEndFestival
ATTACH;FMTTYPE="image/jpeg":https://storage.ning.com/topology/rest/1.0
 /file/get/10844552456?profile=original
ATTENDEE;ROLE=REQ-PARTICIPANT;PARTSTAT=ACCEPTED;RSVP=TRUE;CN="Crouch E
 nd Festival":https://harringayonline.com/profile/CrouchEndFestival
END:VEVENT
END:VCALENDAR
