BEGIN:VCALENDAR
PRODID:NingEventWidget-v1
VERSION:2.0
METHOD:PUBLISH
BEGIN:VTIMEZONE
TZID:Europe/London
X-LIC-LOCATION:Europe/London
BEGIN:DAYLIGHT
TZOFFSETFROM:+0000
TZOFFSETTO:+0100
TZNAME:BST
DTSTART:19700329T010000
RRULE:FREQ=YEARLY;BYMONTH=3;BYDAY=-1SU
END:DAYLIGHT
BEGIN:STANDARD
TZOFFSETFROM:+0100
TZOFFSETTO:+0000
TZNAME:GMT
DTSTART:19701025T020000
RRULE:FREQ=YEARLY;BYMONTH=10;BYDAY=-1SU
END:STANDARD
END:VTIMEZONE
BEGIN:VEVENT
UID:844301:Event:1510035
DTSTAMP:20260423T135354Z
SUMMARY:HALLOWEEN MASQUERADE CLUB NIGHT
DESCRIPTION:We're getting dark and dancey for a special club night eve
 nt at Craving with DJ sets from:  Mr Sandman b2b Rachel Ho Ben Zo Spor
 ts b2b Colours in Waves LAPS Elijah John  House, techno, dark electro,
  minimal, dance vibes.  Bar by Craving Food by Walthamstow Dogs  Satur
 day 29th October, 7.30pm-1am Free entry\n\nFor more information visit 
 https://harringayonline.com/events/halloween-masquerade-club-night
DTSTART;TZID=Europe/London:20221029T193000
DTEND;TZID=Europe/London:20221030T010000
CATEGORIES:music, food, beer, djs, halloween, clubnight, techno, house
 , electronica
LOCATION:Craving
WEBSITE:https://www.craving.london/
URL:https://www.craving.london/
CONTACT:02088083178
ORGANIZER:Craving
ATTACH;FMTTYPE="image/jpeg":https://storage.ning.com/topology/rest/1.0
 /file/get/10835771654?profile=original
ATTENDEE;ROLE=REQ-PARTICIPANT;PARTSTAT=ACCEPTED;RSVP=TRUE;CN="Rachel H
 o":https://harringayonline.com/profile/RachelHo795
END:VEVENT
END:VCALENDAR
