BEGIN:VCALENDAR
PRODID:NingEventWidget-v1
VERSION:2.0
METHOD:PUBLISH
BEGIN:VTIMEZONE
TZID:Europe/London
X-LIC-LOCATION:Europe/London
BEGIN:DAYLIGHT
TZOFFSETFROM:+0000
TZOFFSETTO:+0100
TZNAME:BST
DTSTART:19700329T010000
RRULE:FREQ=YEARLY;BYMONTH=3;BYDAY=-1SU
END:DAYLIGHT
BEGIN:STANDARD
TZOFFSETFROM:+0100
TZOFFSETTO:+0000
TZNAME:GMT
DTSTART:19701025T020000
RRULE:FREQ=YEARLY;BYMONTH=10;BYDAY=-1SU
END:STANDARD
END:VTIMEZONE
BEGIN:VEVENT
UID:844301:Event:1637092
DTSTAMP:20260424T142707Z
SUMMARY:Giant Easter Bunny Trail Lauderdale House
DESCRIPTION:Lauderdale House annual Easter Trail returns! Solve riddle
 s and hunt for the Giant Bunny in a free Easter Trail around Waterlow 
 Park.\nJoin us on Easter Sunday between 11am and 4.30pm for a free E
 aster trail around Waterlow Park, complete with a treasure map and a s
 eries of riddles and clues. There will be an information table and ma
 rquee set up on the Tea Lawn at the back of the House where you can co
 llect a copy of the treasure map. When you finish the trail, you shoul
 d return to the table - there will be a small chocolate treat for th
 e first 100 children to complete the trail!\nHard copies of the treasu
 re map will be available on the day from the Tea Lawn behind the house
  and available for download at the end of March.\nDon't forget to tag 
 us in on social media (@lauderdalehouse on Facebook and Instagram
  or at #EasterInTheHouse) as you find your way along the trail! \n\
 nFor more information visit https://harringayonline.com/events/giant-e
 aster-bunny-trail-lauderdale-house
DTSTART;TZID=Europe/London:20260405T110000
DTEND;TZID=Europe/London:20260405T163000
CATEGORIES:lauderdale, house, easter, bunny, trail
LOCATION:Lauderdale House
WEBSITE:https://www.lauderdalehouse.org.uk/whats-on/easter-trail-2026
URL:https://www.lauderdalehouse.org.uk/whats-on/easter-trail-2026
CONTACT:020 8 348 8716
ORGANIZER;CN="Lauderdale House":https://harringayonline.com/profile/So
 phieSerrano
ATTACH;FMTTYPE="image/jpeg":
ATTENDEE;ROLE=REQ-PARTICIPANT;PARTSTAT=ACCEPTED;RSVP=TRUE;CN="Lauderda
 le House":https://harringayonline.com/profile/SophieSerrano
END:VEVENT
END:VCALENDAR
