BEGIN:VCALENDAR
PRODID:NingEventWidget-v1
VERSION:2.0
METHOD:PUBLISH
BEGIN:VTIMEZONE
TZID:Europe/London
X-LIC-LOCATION:Europe/London
BEGIN:DAYLIGHT
TZOFFSETFROM:+0000
TZOFFSETTO:+0100
TZNAME:BST
DTSTART:19700329T010000
RRULE:FREQ=YEARLY;BYMONTH=3;BYDAY=-1SU
END:DAYLIGHT
BEGIN:STANDARD
TZOFFSETFROM:+0100
TZOFFSETTO:+0000
TZNAME:GMT
DTSTART:19701025T020000
RRULE:FREQ=YEARLY;BYMONTH=10;BYDAY=-1SU
END:STANDARD
END:VTIMEZONE
BEGIN:VEVENT
UID:844301:Event:1505398
DTSTAMP:20260426T031212Z
SUMMARY:Gaunson Creative Open Studios
DESCRIPTION:In its 20th year, Gaunson Creative Open Studios (previousl
 y Euroart Studios) will take place as part of free three day Markfield
  Road Festival, on 9 - 11 September 2022, on Markfield Road in South T
 ottenham. It will be the first time Gaunson Creative Studios will be o
 pen to the public since 2019, and visitors will be able to meet and bu
 y from over 50 artists across the weekend.\nThe car park in front of t
 he building will be transformed into Art In The Yard - a space for ins
 tallations by some of our resident artists. You can join in other acti
 vities from the festival including an art raffle, panel discussions, f
 ilm screenings, live music, DJs, food and drink. There will be activit
 ies for the whole family to enjoy with childrenâ€™s workshops, face pa
 inting and a carnival procession organised by a local primary school.Â
  \nWeâ€™re really excited to be opening our studio doors for visitors 
 and art lovers to see behind the scenes and find out about our residen
 t artistâ€™s practices across ceramics, painting, film, illustration, 
 design, fashion, photography, music and more.\nGaunson Creative Open S
 tudios will take place on:Â  Friday 9th September, 6pm - 10pm Saturday
  10th September, 2pm - 6pm Sunday 11th September, 2pm - 6pm\ngaunsoncr
 eativestudios.co.ukÂ  instagram.com/gaunsoncreativeopenstudios instagr
 am.com/markfieldroadfestival\n\n\nFor more information visit https://h
 arringayonline.com/events/gaunson-creative-open-studios
DTSTART;TZID=Europe/London:20220909T180000
DTEND;TZID=Europe/London:20220911T180000
CATEGORIES:"gaunson creative studios", "open studios", art, "art exhib
 ition"
LOCATION:Gaunson Creative Studios
WEBSITE:http://gaunsoncreativestudios.co.uk/
URL:http://gaunsoncreativestudios.co.uk/
CONTACT:
ORGANIZER:Gaunson Creative Studios
ATTACH;FMTTYPE="image/jpeg":https://storage.ning.com/topology/rest/1.0
 /file/get/10800924253?profile=original
ATTENDEE;ROLE=REQ-PARTICIPANT;PARTSTAT=ACCEPTED;RSVP=TRUE;CN="Hazel Br
 own":https://harringayonline.com/profile/HazelBrown
END:VEVENT
END:VCALENDAR
