BEGIN:VCALENDAR
PRODID:NingEventWidget-v1
VERSION:2.0
METHOD:PUBLISH
BEGIN:VTIMEZONE
TZID:Europe/London
X-LIC-LOCATION:Europe/London
BEGIN:DAYLIGHT
TZOFFSETFROM:+0000
TZOFFSETTO:+0100
TZNAME:BST
DTSTART:19700329T010000
RRULE:FREQ=YEARLY;BYMONTH=3;BYDAY=-1SU
END:DAYLIGHT
BEGIN:STANDARD
TZOFFSETFROM:+0100
TZOFFSETTO:+0000
TZNAME:GMT
DTSTART:19701025T020000
RRULE:FREQ=YEARLY;BYMONTH=10;BYDAY=-1SU
END:STANDARD
END:VTIMEZONE
BEGIN:VEVENT
UID:844301:Event:1573550
DTSTAMP:20260422T210422Z
SUMMARY:Garden open for charity
DESCRIPTION:We are opening our garden again for charity this Bank Holi
 day Sunday and Monday 26th and 27th May, 2-6p.m.  Enjoy an oasis of c
 alm with ferns, Japanese maples and wildlife ponds. Entrance £4, chil
 dren free. Teas, home-made cakes and plants for sale. Indoor café. Al
 l proceeds to charities supported by the National Garden Scheme.\nSee 
 more at https://www.instagram.com/space36garden/\n\n\nFor more informa
 tion visit https://harringayonline.com/events/garden-open-for-charity
DTSTART;TZID=Europe/London:20240526T140000
DTEND;TZID=Europe/London:20240526T180000
CATEGORIES:garden, cake-stall, plants, "'plants", for, "sale'", ngs
LOCATION:Crouch Hill
WEBSITE:https://www.instagram.com/space36garden/
URL:https://www.instagram.com/space36garden/
CONTACT:
ORGANIZER;CN="Alan Swann":https://harringayonline.com/profile/Alanswan
 n
ATTACH;FMTTYPE="image/jpeg":https://storage.ning.com/topology/rest/1.0
 /file/get/12558452658?profile=original
ATTENDEE;ROLE=REQ-PARTICIPANT;PARTSTAT=ACCEPTED;RSVP=TRUE;CN=rebecca:h
 ttps://harringayonline.com/profile/rebeccaodonovan
ATTENDEE;ROLE=REQ-PARTICIPANT;PARTSTAT=ACCEPTED;RSVP=TRUE;CN="Alan Swa
 nn":https://harringayonline.com/profile/Alanswann
ATTENDEE;ROLE=REQ-PARTICIPANT;PARTSTAT=TENTATIVE;RSVP=TRUE;CN="Jennife
 r B":https://harringayonline.com/profile/JenniferBlain
END:VEVENT
END:VCALENDAR
