BEGIN:VCALENDAR
PRODID:NingEventWidget-v1
VERSION:2.0
METHOD:PUBLISH
BEGIN:VTIMEZONE
TZID:Europe/London
X-LIC-LOCATION:Europe/London
BEGIN:DAYLIGHT
TZOFFSETFROM:+0000
TZOFFSETTO:+0100
TZNAME:BST
DTSTART:19700329T010000
RRULE:FREQ=YEARLY;BYMONTH=3;BYDAY=-1SU
END:DAYLIGHT
BEGIN:STANDARD
TZOFFSETFROM:+0100
TZOFFSETTO:+0000
TZNAME:GMT
DTSTART:19701025T020000
RRULE:FREQ=YEARLY;BYMONTH=10;BYDAY=-1SU
END:STANDARD
END:VTIMEZONE
BEGIN:VEVENT
UID:844301:Event:1635384
DTSTAMP:20260423T062333Z
SUMMARY:Friends of Railway Fields AGM
DESCRIPTION:\r\nAll Welcome\n\nFor more information visit https://harr
 ingayonline.com/events/friends-of-railway-fields-agm-1
DTSTART;TZID=Europe/London:20260321T131500
DTEND;TZID=Europe/London:20260321T140000
CATEGORIES:"railway fields", agm, "friends of railway fields"
LOCATION:Railway Fields (at the cabin)
WEBSITE:https://friendsofrailwayfields.wordpress.com/
URL:https://friendsofrailwayfields.wordpress.com/
CONTACT:
ORGANIZER;CN=Liz:https://harringayonline.com/profile/Liz
ATTACH;FMTTYPE="image/jpeg":https://storage.ning.com/topology/rest/1.0
 /file/get/31101623855?profile=original
ATTENDEE;ROLE=REQ-PARTICIPANT;PARTSTAT=ACCEPTED;RSVP=TRUE;CN=Liz:https
 ://harringayonline.com/profile/Liz
END:VEVENT
END:VCALENDAR
