BEGIN:VCALENDAR
PRODID:NingEventWidget-v1
VERSION:2.0
METHOD:PUBLISH
BEGIN:VTIMEZONE
TZID:Europe/London
X-LIC-LOCATION:Europe/London
BEGIN:DAYLIGHT
TZOFFSETFROM:+0000
TZOFFSETTO:+0100
TZNAME:BST
DTSTART:19700329T010000
RRULE:FREQ=YEARLY;BYMONTH=3;BYDAY=-1SU
END:DAYLIGHT
BEGIN:STANDARD
TZOFFSETFROM:+0100
TZOFFSETTO:+0000
TZNAME:GMT
DTSTART:19701025T020000
RRULE:FREQ=YEARLY;BYMONTH=10;BYDAY=-1SU
END:STANDARD
END:VTIMEZONE
BEGIN:VEVENT
UID:844301:Event:1519718
DTSTAMP:20260424T091419Z
SUMMARY:FREE Mindfulness Taster Session | Live Online
DESCRIPTION:Join Anna Taylor for this free taster session to find out 
 more about what mindfulness is and how it can help you to move through
  life feeling calmer, more balanced, resilient and happy. Together we 
 will take a practice together and there will be time to share reflecti
 ons and ask questions.\nAnna is a local Mindfulness Instructor based i
 n N4 but this session takes place live online via Zoom.\nMore informat
 ion and booking details can be found at https://www.mindbodybalance.co
 .uk/workshops-courses.\n\nFor more information visit https://harringay
 online.com/events/free-mindfulness-taster-session-live-online-1
DTSTART;TZID=Europe/London:20221207T190000
DTEND;TZID=Europe/London:20221207T200000
CATEGORIES:mindfulness, compassion, self-care, self-help, calm, de-str
 ess, resilience, mbsr
LOCATION:Live Online via Zoom
WEBSITE:https://www.mindbodybalance.co.uk/workshops-courses
URL:https://www.mindbodybalance.co.uk/workshops-courses
CONTACT:
ORGANIZER;CN="Anna Taylor":https://harringayonline.com/profile/AnnaTay
 lor
ATTACH;FMTTYPE="image/jpeg":https://storage.ning.com/topology/rest/1.0
 /file/get/10902380893?profile=original
ATTENDEE;ROLE=REQ-PARTICIPANT;PARTSTAT=ACCEPTED;RSVP=TRUE;CN="Anna Tay
 lor":https://harringayonline.com/profile/AnnaTaylor
END:VEVENT
END:VCALENDAR
