BEGIN:VCALENDAR
PRODID:NingEventWidget-v1
VERSION:2.0
METHOD:PUBLISH
BEGIN:VTIMEZONE
TZID:Europe/London
X-LIC-LOCATION:Europe/London
BEGIN:DAYLIGHT
TZOFFSETFROM:+0000
TZOFFSETTO:+0100
TZNAME:BST
DTSTART:19700329T010000
RRULE:FREQ=YEARLY;BYMONTH=3;BYDAY=-1SU
END:DAYLIGHT
BEGIN:STANDARD
TZOFFSETFROM:+0100
TZOFFSETTO:+0000
TZNAME:GMT
DTSTART:19701025T020000
RRULE:FREQ=YEARLY;BYMONTH=10;BYDAY=-1SU
END:STANDARD
END:VTIMEZONE
BEGIN:VEVENT
UID:844301:Event:1611819
DTSTAMP:20260423T111518Z
SUMMARY:Free Martial Arts for teenagers
DESCRIPTION:The summer holidays are fast approaching. If you've childr
 en between 13 - 19 years old that you need to keep busy, send them our
  way to learn some martial arts skills. We're making all our classes f
 ree for teens in August. To find out more or to book a place, email us
  at enquiries@alexandraparkbjj.co.uk\r\n\n\nFor more information visit
  https://harringayonline.com/events/free-martial-arts-for-teenagers
DTSTART;TZID=Europe/London:20250821T180000
DTEND;TZID=Europe/London:20250821T190000
CATEGORIES:fitness
LOCATION:Alexandra Park School
WEBSITE:
URL:
CONTACT:
ORGANIZER;CN="Fed R":https://harringayonline.com/profile/FedR
ATTACH;FMTTYPE="image/jpeg":https://storage.ning.com/topology/rest/1.0
 /file/get/13641596688?profile=original
ATTENDEE;ROLE=REQ-PARTICIPANT;PARTSTAT=ACCEPTED;RSVP=TRUE;CN="Fed R":h
 ttps://harringayonline.com/profile/FedR
END:VEVENT
END:VCALENDAR
