BEGIN:VCALENDAR
PRODID:NingEventWidget-v1
VERSION:2.0
METHOD:PUBLISH
BEGIN:VTIMEZONE
TZID:Europe/London
X-LIC-LOCATION:Europe/London
BEGIN:DAYLIGHT
TZOFFSETFROM:+0000
TZOFFSETTO:+0100
TZNAME:BST
DTSTART:19700329T010000
RRULE:FREQ=YEARLY;BYMONTH=3;BYDAY=-1SU
END:DAYLIGHT
BEGIN:STANDARD
TZOFFSETFROM:+0100
TZOFFSETTO:+0000
TZNAME:GMT
DTSTART:19701025T020000
RRULE:FREQ=YEARLY;BYMONTH=10;BYDAY=-1SU
END:STANDARD
END:VTIMEZONE
BEGIN:VEVENT
UID:844301:Event:1506511
DTSTAMP:20260422T022538Z
SUMMARY:FREE COMEDY TICKETS @THE SALISBURY - THURS 15th SEPT 8PM
DESCRIPTION:CLICK LINK BELOW FOR FREE TICKETS! A night of exciting liv
 e stand-up at The Salisbury Hotel N4 1JX - Thursday 15th September at 
 8PM\nhttps://www.eventbrite.co.uk/e/414628493987\n\n\nFor more informa
 tion visit https://harringayonline.com/events/free-comedy-tickets-the-
 salisbury-thurs-15th-sept-8pm
DTSTART;TZID=Europe/London:20220915T200000
DTEND;TZID=Europe/London:20220915T220000
CATEGORIES:comedy, stand-up, free, events, comedians, standup, things,
  to, do
LOCATION:The Salisbury
WEBSITE:https://thesalisburyhotelpub.co.uk
URL:https://thesalisburyhotelpub.co.uk
CONTACT:
ORGANIZER;CN="Comedy Odyssey":https://harringayonline.com/profile/Come
 dyOdyssey
ATTACH;FMTTYPE="image/jpeg":https://storage.ning.com/topology/rest/1.0
 /file/get/10807179285?profile=original
ATTENDEE;ROLE=REQ-PARTICIPANT;PARTSTAT=ACCEPTED;RSVP=TRUE;CN="Comedy O
 dyssey":https://harringayonline.com/profile/ComedyOdyssey
END:VEVENT
END:VCALENDAR
