BEGIN:VCALENDAR
PRODID:NingEventWidget-v1
VERSION:2.0
METHOD:PUBLISH
BEGIN:VTIMEZONE
TZID:Europe/London
X-LIC-LOCATION:Europe/London
BEGIN:DAYLIGHT
TZOFFSETFROM:+0000
TZOFFSETTO:+0100
TZNAME:BST
DTSTART:19700329T010000
RRULE:FREQ=YEARLY;BYMONTH=3;BYDAY=-1SU
END:DAYLIGHT
BEGIN:STANDARD
TZOFFSETFROM:+0100
TZOFFSETTO:+0000
TZNAME:GMT
DTSTART:19701025T020000
RRULE:FREQ=YEARLY;BYMONTH=10;BYDAY=-1SU
END:STANDARD
END:VTIMEZONE
BEGIN:VEVENT
UID:844301:Event:1514305
DTSTAMP:20260421T081446Z
SUMMARY:Free Comedy Tickets For Arthur Smith - Thursday 10th Nov 8pm
DESCRIPTION:Click Link below for FREE TICKETS to Comedy Odyssey on the
  10th November 8pm with headliner Arthur Smith (QI, Grumpy Old Men, Th
 e One Show, Have I got News For You, Never Mind The Buzzcocks and more
 ). Live Stand-up at The Salisbury Hotel N4 1jX. https://www.eventbrite
 .co.uk/e/457182082917\n\nFor more information visit https://harringayo
 nline.com/events/free-comedy-tickets-for-arthur-smith-thursday-10th-no
 v-8pm
DTSTART;TZID=Europe/London:20221110T200000
DTEND;TZID=Europe/London:20221110T220000
CATEGORIES:comedy, stand-up, free, events, comedians, standup, things,
  to, do
LOCATION:The Salisbury
WEBSITE:https://thesalisburyhotelpub.co.uk
URL:https://thesalisburyhotelpub.co.uk
CONTACT:
ORGANIZER;CN="Comedy Odyssey":https://harringayonline.com/profile/Come
 dyOdyssey
ATTACH;FMTTYPE="image/jpeg":https://storage.ning.com/topology/rest/1.0
 /file/get/10861136658?profile=original
ATTENDEE;ROLE=REQ-PARTICIPANT;PARTSTAT=ACCEPTED;RSVP=TRUE;CN=Huisfuis:
 https://harringayonline.com/profile/TimS
ATTENDEE;ROLE=REQ-PARTICIPANT;PARTSTAT=ACCEPTED;RSVP=TRUE;CN="Comedy O
 dyssey":https://harringayonline.com/profile/ComedyOdyssey
END:VEVENT
END:VCALENDAR
