BEGIN:VCALENDAR
PRODID:NingEventWidget-v1
VERSION:2.0
METHOD:PUBLISH
BEGIN:VTIMEZONE
TZID:Europe/London
X-LIC-LOCATION:Europe/London
BEGIN:DAYLIGHT
TZOFFSETFROM:+0000
TZOFFSETTO:+0100
TZNAME:BST
DTSTART:19700329T010000
RRULE:FREQ=YEARLY;BYMONTH=3;BYDAY=-1SU
END:DAYLIGHT
BEGIN:STANDARD
TZOFFSETFROM:+0100
TZOFFSETTO:+0000
TZNAME:GMT
DTSTART:19701025T020000
RRULE:FREQ=YEARLY;BYMONTH=10;BYDAY=-1SU
END:STANDARD
END:VTIMEZONE
BEGIN:VEVENT
UID:844301:Event:1501855
DTSTAMP:20260422T131955Z
SUMMARY:Finding the Poem with Paul Lyalls
DESCRIPTION:Complete beginners to poetry sought; relative newcomers ve
 ry welcome; seasoned poets, come along too! This is a course for anyon
 e who wants to liberate their creativity and immerse themselves in the
  joy of language. Playful, fun, entertaining, enlightening – explore
  your word power with Paul Lyalls.\nA note to prose writers: have you 
 ever wondered what it is like to write in the poetic form? Perhaps you
  write in prose automatically, but would like to try to use language i
 n another way. If your fiction needs a lift, if your life-writing need
 s lilt, if your central characters don’t quite sing (or even if they
  do!) you can free your writing through poetry. Zoom delivery. Cost £
 140\nPaul has four sets of workshops which can be taken in any order:\
 nAutumn One (Set 3): Evenings Mondays 6.30-9pm Sept 12, 19, 26, Oct 3,
  10, 17.\nSet 3: The good, the bard and the imagery...\nWeek 1) How to
  show fast and slow (momentum in writing)\nWeek 2) Heart and soul of t
 he people we know (not T'pau)\nWeek 3) Rooms\nWeek 4) Wants & desire v
 ia road trip to India\nWeek 5) The cinema within a moment\nWeek 6) Wha
 t's So Funny? Comedy in poetry\nAutumn Two (Set 4): Evenings Mondays 6
 .30-9pm Nov 7, 14, 21, 28, Dec 5, 12\nSet 4: Writers on the storm...\n
 1) Making headlines for all the write reasons\n2) Camera, lights, acti
 on and the kodak moment. The writer's camera.\n3) Guilty pleasure repe
 nt at leisure.\n4) Walking with Aladdin.\n5) Should have, would have, 
 could have.\n6) Speculative poetry, shaping the unshapeable.\n\nFor mo
 re information visit https://harringayonline.com/events/finding-the-po
 em-with-paul-lyalls
DTSTART;TZID=Europe/London:20220912T183000
DTEND;TZID=Europe/London:20220914T210000
CATEGORIES:poetry, "creative writing courses", "paul lyalls", "find yo
 ur inner poet"
LOCATION:Online via Zoom for writingroom.org
WEBSITE:https://www.writingroom.org.uk/courses/writing-poetry
URL:https://www.writingroom.org.uk/courses/writing-poetry
CONTACT:
ORGANIZER:Carmel for Writing Room
ATTACH;FMTTYPE="image/jpeg":https://storage.ning.com/topology/rest/1.0
 /file/get/10752382094?profile=original
ATTENDEE;ROLE=REQ-PARTICIPANT;PARTSTAT=ACCEPTED;RSVP=TRUE;CN=Carmel:ht
 tps://harringayonline.com/profile/Carmel
END:VEVENT
END:VCALENDAR
