BEGIN:VCALENDAR
PRODID:NingEventWidget-v1
VERSION:2.0
METHOD:PUBLISH
BEGIN:VTIMEZONE
TZID:Europe/London
X-LIC-LOCATION:Europe/London
BEGIN:DAYLIGHT
TZOFFSETFROM:+0000
TZOFFSETTO:+0100
TZNAME:BST
DTSTART:19700329T010000
RRULE:FREQ=YEARLY;BYMONTH=3;BYDAY=-1SU
END:DAYLIGHT
BEGIN:STANDARD
TZOFFSETFROM:+0100
TZOFFSETTO:+0000
TZNAME:GMT
DTSTART:19701025T020000
RRULE:FREQ=YEARLY;BYMONTH=10;BYDAY=-1SU
END:STANDARD
END:VTIMEZONE
BEGIN:VEVENT
UID:844301:Event:1533954
DTSTAMP:20260422T131950Z
SUMMARY:Finding the Poem with Paul Lyalls
DESCRIPTION:Finding the Poem with Paul Lyalls: Set 3\nComplete beginne
 rs to poetry sought; relative newcomers very welcome; seasoned poets, 
 come along too! This is a course for anyone who wants to liberate thei
 r creativity and immerse themselves in the joy of language. Playful, f
 un, entertaining, enlightening – explore your word power with Paul L
 yalls.\nA note to prose writers: have you ever wondered what it is lik
 e to write in the poetic form? Perhaps you write in prose automaticall
 y, but would like to try to use language in another way. If your ficti
 on needs a lift, if your life-writing needs lilt, if your central char
 acters don’t quite sing (or even if they do!) you can free your writ
 ing through poetry.\nPaul has four sets of workshops which can be take
 n in any order\n\nSet 3: The good, the bard and the imagery...\nWeek 1
 ) How to show fast and slow (momentum in writing)\nWeek 2) Heart and s
 oul of the people we know (not T'pau)\nWeek 3) Rooms\nWeek 4) Wants & 
 desire via road trip to India\nWeek 5) The cinema within a moment\nWee
 k 6) What's So Funny? Comedy in poetry\n\nSummer (Set 3): TUESDAY EVES
  FOR SUMMER ONLY. Tuesdays 6.30-9pm; April 18, 25, May 2, 9, 16, 23. Z
 oom Delivery, Cost £140  \n\nFor more information visit https://harr
 ingayonline.com/events/finding-the-poem-with-paul-lyalls-4
DTSTART;TZID=Europe/London:20230418T183000
DTEND;TZID=Europe/London:20230418T210000
CATEGORIES:poetry, "creative writing courses", "paul lyalls", "collage
  writing room", "find your inner poet"
LOCATION:Online via Zoom for Writing Room
WEBSITE:https://www.writingroom.org.uk/coursesandmasterclasses/writing
 -poetry
URL:https://www.writingroom.org.uk/coursesandmasterclasses/writing-poe
 try
CONTACT:
ORGANIZER:Carmel for Writing Room
ATTACH;FMTTYPE="image/jpeg":https://storage.ning.com/topology/rest/1.0
 /file/get/11005024669?profile=original
ATTENDEE;ROLE=REQ-PARTICIPANT;PARTSTAT=ACCEPTED;RSVP=TRUE;CN=Carmel:ht
 tps://harringayonline.com/profile/Carmel
END:VEVENT
END:VCALENDAR
