BEGIN:VCALENDAR
PRODID:NingEventWidget-v1
VERSION:2.0
METHOD:PUBLISH
BEGIN:VTIMEZONE
TZID:Europe/London
X-LIC-LOCATION:Europe/London
BEGIN:DAYLIGHT
TZOFFSETFROM:+0000
TZOFFSETTO:+0100
TZNAME:BST
DTSTART:19700329T010000
RRULE:FREQ=YEARLY;BYMONTH=3;BYDAY=-1SU
END:DAYLIGHT
BEGIN:STANDARD
TZOFFSETFROM:+0100
TZOFFSETTO:+0000
TZNAME:GMT
DTSTART:19701025T020000
RRULE:FREQ=YEARLY;BYMONTH=10;BYDAY=-1SU
END:STANDARD
END:VTIMEZONE
BEGIN:VEVENT
UID:844301:Event:1521927
DTSTAMP:20260422T131950Z
SUMMARY:Finding the Poem with Paul Lyalls
DESCRIPTION:Complete beginners to poetry sought; relative newcomers ve
 ry welcome; seasoned poets, come along too! This is a course for anyon
 e who wants to liberate their creativity and immerse themselves in the
  joy of language. Playful, fun, entertaining, enlightening – explore
  your word power with Paul Lyalls.\nA note to prose writers: have you 
 ever wondered what it is like to write in the poetic form? Perhaps you
  write in prose automatically, but would like to try to use language i
 n another way. If your fiction needs a lift, if your life-writing need
 s lilt, if your central characters don’t quite sing (or even if they
  do!) you can free your writing through poetry. Zoom delivery. Cost £
 140.\nPaul has four sets of workshops which can be taken in any order:
  this is Set 2.\nSet 2: For a few poems more...\nWeek 1) Should have c
 ould have poetry tool box\nWeek 2) Journeys and the travelogue in conv
 ersation\nWeek 3) A sense of place (2) and sorry not sorry\nWeek 4) Im
 age detectives and news you can use\nWeek 5) As the saying goes\nWeek 
 6) Tone and setting – gambling not betting\nSpring Two (Set 2): Even
 ings SIX WEEKS AS USUAL, £140\nMondays 6.30-9pm; Feb 20, 27, March 6,
  13, 20, 27.\n\nFor more information visit https://harringayonline.com
 /events/finding-the-poem-with-paul-lyalls-3
DTSTART;TZID=Europe/London:20230220T183000
DTEND;TZID=Europe/London:20230220T210000
CATEGORIES:poetry, "creative writing courses", "paul lyalls", "collage
  writing room", "find your inner poet"
LOCATION:Online via Zoom for writingroom.org
WEBSITE:https://www.writingroom.org.uk/coursesandmasterclasses/writing
 -poetry
URL:https://www.writingroom.org.uk/coursesandmasterclasses/writing-poe
 try
CONTACT:
ORGANIZER:Carmel for Writing Room
ATTACH;FMTTYPE="image/jpeg":https://storage.ning.com/topology/rest/1.0
 /file/get/10918524300?profile=original
ATTENDEE;ROLE=REQ-PARTICIPANT;PARTSTAT=ACCEPTED;RSVP=TRUE;CN=Carmel:ht
 tps://harringayonline.com/profile/Carmel
END:VEVENT
END:VCALENDAR
