BEGIN:VCALENDAR
PRODID:NingEventWidget-v1
VERSION:2.0
METHOD:PUBLISH
BEGIN:VTIMEZONE
TZID:Europe/London
X-LIC-LOCATION:Europe/London
BEGIN:DAYLIGHT
TZOFFSETFROM:+0000
TZOFFSETTO:+0100
TZNAME:BST
DTSTART:19700329T010000
RRULE:FREQ=YEARLY;BYMONTH=3;BYDAY=-1SU
END:DAYLIGHT
BEGIN:STANDARD
TZOFFSETFROM:+0100
TZOFFSETTO:+0000
TZNAME:GMT
DTSTART:19701025T020000
RRULE:FREQ=YEARLY;BYMONTH=10;BYDAY=-1SU
END:STANDARD
END:VTIMEZONE
BEGIN:VEVENT
UID:844301:Event:1501608
DTSTAMP:20260422T131949Z
SUMMARY:Finding the Poem with Paul Lyalls
DESCRIPTION:Complete beginners to poetry sought; relative newcomers ve
 ry welcome; seasoned poets, come along too! This is a course for anyon
 e who wants to liberate their creativity and immerse themselves in the
  joy of language. Playful, fun, entertaining, enlightening – explore
  your word power with Paul Lyalls.\nA note to prose writers: have you 
 ever wondered what it is like to write in the poetic form? Perhaps you
  write in prose automatically, but would like to try to use language i
 n another way. If your fiction needs a lift, if your life-writing need
 s lilt, if your central characters don’t quite sing (or even if they
  do!) you can free your writing through poetry. Zoom delivery. Cost £
 140\nPaul has four sets of workshops which can be taken in any order:\
 nAutumn part Two (Set 4): Evenings Mondays 6.30-9pm Nov 7, 14, 21, 28,
  Dec 5, 12\nSet 4: Writers on the storm...\n1) Making headlines for al
 l the write reasons\n2) Camera, lights, action and the kodak moment. T
 he writer's camera.\n3) Guilty pleasure repent at leisure.\n4) Walking
  with Aladdin.\n5) Should have, would have, could have.\n6) Speculativ
 e poetry, shaping the unshapeable.\nWriting Poetry | Writing Room Org 
 UK\ncontact@writingroom.org.uk\n\nFor more information visit https://h
 arringayonline.com/events/finding-the-poem-with-paul-lyalls-1
DTSTART;TZID=Europe/London:20221107T183000
DTEND;TZID=Europe/London:20221107T210000
CATEGORIES:poetry, "creative writing courses", "paul lyalls", "writing
  room", "find your inner poet"
LOCATION:Online via Zoom for Writing Room
WEBSITE:https://www.writingroom.org.uk/courses/writing-poetry
URL:https://www.writingroom.org.uk/courses/writing-poetry
CONTACT:
ORGANIZER:Carmel for Writing Room
ATTACH;FMTTYPE="image/jpeg":https://storage.ning.com/topology/rest/1.0
 /file/get/10753088890?profile=original
ATTENDEE;ROLE=REQ-PARTICIPANT;PARTSTAT=ACCEPTED;RSVP=TRUE;CN=Carmel:ht
 tps://harringayonline.com/profile/Carmel
END:VEVENT
END:VCALENDAR
