BEGIN:VCALENDAR
PRODID:NingEventWidget-v1
VERSION:2.0
METHOD:PUBLISH
BEGIN:VTIMEZONE
TZID:Europe/London
X-LIC-LOCATION:Europe/London
BEGIN:DAYLIGHT
TZOFFSETFROM:+0000
TZOFFSETTO:+0100
TZNAME:BST
DTSTART:19700329T010000
RRULE:FREQ=YEARLY;BYMONTH=3;BYDAY=-1SU
END:DAYLIGHT
BEGIN:STANDARD
TZOFFSETFROM:+0100
TZOFFSETTO:+0000
TZNAME:GMT
DTSTART:19701025T020000
RRULE:FREQ=YEARLY;BYMONTH=10;BYDAY=-1SU
END:STANDARD
END:VTIMEZONE
BEGIN:VEVENT
UID:844301:Event:1528261
DTSTAMP:20260422T185000Z
SUMMARY:Family Spring Walk at Railway Fields
DESCRIPTION:An informal Spring walk around Railway Fields suitable for
  all ages to look for the first signs of Spring\r\nMeet at the cabin i
 n Railway Fields (walk straight up the cobbled path from the gates) at
  11.30. The walk will last approx 30 mins. \r\n\n\nFor more informati
 on visit https://harringayonline.com/events/family-spring-walk-at-rail
 way-fields
DTSTART;TZID=Europe/London:20230218T113000
DTEND;TZID=Europe/London:20230218T120000
CATEGORIES:"railway fields", nature, "get outside"
LOCATION:Railway Fields
WEBSITE:https://friendsofrailwayfields.wordpress.com/
URL:https://friendsofrailwayfields.wordpress.com/
CONTACT:
ORGANIZER;CN=Liz:https://harringayonline.com/profile/Liz
ATTACH;FMTTYPE="image/jpeg":https://storage.ning.com/topology/rest/1.0
 /file/get/10967296061?profile=original
ATTENDEE;ROLE=REQ-PARTICIPANT;PARTSTAT=ACCEPTED;RSVP=TRUE;CN=Liz:https
 ://harringayonline.com/profile/Liz
END:VEVENT
END:VCALENDAR
