BEGIN:VCALENDAR
PRODID:NingEventWidget-v1
VERSION:2.0
METHOD:PUBLISH
BEGIN:VTIMEZONE
TZID:Europe/London
X-LIC-LOCATION:Europe/London
BEGIN:DAYLIGHT
TZOFFSETFROM:+0000
TZOFFSETTO:+0100
TZNAME:BST
DTSTART:19700329T010000
RRULE:FREQ=YEARLY;BYMONTH=3;BYDAY=-1SU
END:DAYLIGHT
BEGIN:STANDARD
TZOFFSETFROM:+0100
TZOFFSETTO:+0000
TZNAME:GMT
DTSTART:19701025T020000
RRULE:FREQ=YEARLY;BYMONTH=10;BYDAY=-1SU
END:STANDARD
END:VTIMEZONE
BEGIN:VEVENT
UID:844301:Event:1504129
DTSTAMP:20260422T234940Z
SUMMARY:Downhills Park Meadow Care
DESCRIPTION:Orchard meadow care day! We'll be prepping the meadow for 
 next years growth and re-seeding.\n\nClick HERE to sign up for a place
 \n\nLocation:\nWhat three words:///urgent.plays.asleep\nGoogle Maps Li
 nk\n\n\nFor more information visit https://harringayonline.com/events/
 downhills-park-meadow-care
DTSTART;TZID=Europe/London:20220915T100000
DTEND;TZID=Europe/London:20220915T150000
CATEGORIES:volunteering, nature, conservation, tcv
LOCATION:South meadow - use the entrance on West Green Road, N15 3BH
WEBSITE:https://www.google.co.uk/maps/place/Downhills+Park/@51.5878488
 ,-0.0892932,19.26z/data=!4m5!3m4!1s0x48761c061db36deb:0xe932377118a19a
 38!8m2!3d51.5890651!4d-0.0889579
URL:https://www.google.co.uk/maps/place/Downhills+Park/@51.5878488,-0.
 0892932,19.26z/data=!4m5!3m4!1s0x48761c061db36deb:0xe932377118a19a38!8
 m2!3d51.5890651!4d-0.0889579
CONTACT:
ORGANIZER:The Conservation Volunteers Haringey
ATTACH;FMTTYPE="image/jpeg":
ATTENDEE;ROLE=REQ-PARTICIPANT;PARTSTAT=ACCEPTED;RSVP=TRUE;CN="TCV Hari
 ngey":https://harringayonline.com/profile/RailwayFields
END:VEVENT
END:VCALENDAR
