BEGIN:VCALENDAR
PRODID:NingEventWidget-v1
VERSION:2.0
METHOD:PUBLISH
BEGIN:VTIMEZONE
TZID:Europe/London
X-LIC-LOCATION:Europe/London
BEGIN:DAYLIGHT
TZOFFSETFROM:+0000
TZOFFSETTO:+0100
TZNAME:BST
DTSTART:19700329T010000
RRULE:FREQ=YEARLY;BYMONTH=3;BYDAY=-1SU
END:DAYLIGHT
BEGIN:STANDARD
TZOFFSETFROM:+0100
TZOFFSETTO:+0000
TZNAME:GMT
DTSTART:19701025T020000
RRULE:FREQ=YEARLY;BYMONTH=10;BYDAY=-1SU
END:STANDARD
END:VTIMEZONE
BEGIN:VEVENT
UID:844301:Event:1520217
DTSTAMP:20260424T091313Z
SUMMARY:\"DO IT YOURSELF!\" - Creative Re-Work
DESCRIPTION:Collage Works will be opening their studios in Wood Green 
 to engage their creative audience in a hands-on video production sessi
 on, \"DO IT YOURSELF!\", on December 14th from 4-6pm at McQueens Theat
 re.\n\nCurious to see a shot in action, to learn how a video is create
 d or simply to network with a community of fellow creatives? Then we l
 ook forward to welcoming you, and to sharing some tips while you work 
 on your own video!\nBook your FREE tickets here\n \nParticipants will
  have the opportunity to discover and register for our upcoming FREE p
 rogramme facilitating job opportunities in the creative sector.\n \nC
 ollage Works - Creative Re-Work\nemail: office@collage-arts.org\n\nFor
  more information visit https://harringayonline.com/events/do-it-yours
 elf-creative-re-work
DTSTART;TZID=Europe/London:20221214T160000
DTEND;TZID=Europe/London:20221214T180000
CATEGORIES:free, "creative re-work", workshop, "job opportunities", "v
 ideo production"
LOCATION:McQueen Theatre, 4 Coburg Rd, N22 6UJ
WEBSITE:https://www.eventbrite.co.uk/e/delving-into-video-production-t
 ickets-481527330207
URL:https://www.eventbrite.co.uk/e/delving-into-video-production-ticke
 ts-481527330207
CONTACT:
ORGANIZER;CN="Collage Arts":https://harringayonline.com/profile/Chocol
 ateFactory
ATTACH;FMTTYPE="image/jpeg":https://storage.ning.com/topology/rest/1.0
 /file/get/10906506075?profile=original
ATTENDEE;ROLE=REQ-PARTICIPANT;PARTSTAT=ACCEPTED;RSVP=TRUE;CN="Collage 
 Arts":https://harringayonline.com/profile/ChocolateFactory
END:VEVENT
END:VCALENDAR
