BEGIN:VCALENDAR
PRODID:NingEventWidget-v1
VERSION:2.0
METHOD:PUBLISH
BEGIN:VTIMEZONE
TZID:Europe/London
X-LIC-LOCATION:Europe/London
BEGIN:DAYLIGHT
TZOFFSETFROM:+0000
TZOFFSETTO:+0100
TZNAME:BST
DTSTART:19700329T010000
RRULE:FREQ=YEARLY;BYMONTH=3;BYDAY=-1SU
END:DAYLIGHT
BEGIN:STANDARD
TZOFFSETFROM:+0100
TZOFFSETTO:+0000
TZNAME:GMT
DTSTART:19701025T020000
RRULE:FREQ=YEARLY;BYMONTH=10;BYDAY=-1SU
END:STANDARD
END:VTIMEZONE
BEGIN:VEVENT
UID:844301:Event:1626987
DTSTAMP:20260423T094216Z
SUMMARY:December Outdoor Volunteer Events in Haringey
DESCRIPTION:The weather is feeling fresh, and mince pies are on the me
 nu - but The Conservation Volunteers are still out and about in Haring
 ey this month!\n\nWhy not join us for our free volunteer events - get 
 outdoors, meet new people and do some practical conservation gardening
  style work to improve your local green-spaces.\n\nWe are especially l
 ooking for volunteers for our Sunday and Wednesday projects. But we ru
 n activities 6 days a week throughout the year, so there's a time to s
 uit everyone. :) \n\nAll events are posted on our website below:\nHar
 ingey | TCV\n\nNo experience required, just click on the link above, f
 ind a session you'd like to join and email us via the contact info pos
 ted under each event. \n\n\nFor more information visit https://harrin
 gayonline.com/events/december-outdoor-volunteer-events-in-haringey
DTSTART;TZID=Europe/London:20251211T000000
DTEND;TZID=Europe/London:20251220T235900
CATEGORIES:nature, volunteering, community, outdoors, gardening, harin
 gey, north, london
LOCATION:Sites across Haringey
WEBSITE:https://www.tcv.org.uk/london/haringey/
URL:https://www.tcv.org.uk/london/haringey/
CONTACT:02083 486 005
ORGANIZER;CN="TCV Haringey":https://harringayonline.com/profile/Railwa
 yFields
ATTACH;FMTTYPE="image/jpeg":https://storage.ning.com/topology/rest/1.0
 /file/get/31020131697?profile=original
ATTENDEE;ROLE=REQ-PARTICIPANT;PARTSTAT=ACCEPTED;RSVP=TRUE;CN="TCV Hari
 ngey":https://harringayonline.com/profile/RailwayFields
END:VEVENT
END:VCALENDAR
