BEGIN:VCALENDAR
PRODID:NingEventWidget-v1
VERSION:2.0
METHOD:PUBLISH
BEGIN:VTIMEZONE
TZID:Europe/London
X-LIC-LOCATION:Europe/London
BEGIN:DAYLIGHT
TZOFFSETFROM:+0000
TZOFFSETTO:+0100
TZNAME:BST
DTSTART:19700329T010000
RRULE:FREQ=YEARLY;BYMONTH=3;BYDAY=-1SU
END:DAYLIGHT
BEGIN:STANDARD
TZOFFSETFROM:+0100
TZOFFSETTO:+0000
TZNAME:GMT
DTSTART:19701025T020000
RRULE:FREQ=YEARLY;BYMONTH=10;BYDAY=-1SU
END:STANDARD
END:VTIMEZONE
BEGIN:VEVENT
UID:844301:Event:1639593
DTSTAMP:20260421T160419Z
SUMMARY:Dawn Chorus at Railway Fields
DESCRIPTION:Please meet at the gates of Railway Fields NO LATER than 
 5am (Gates will be locked once the walk begins). Dawn is at 5.07am so 
 we will begin promptly. \r\nWe welcome children and young people to t
 ake part but please note that any child under 16 must be accompanied b
 y a parent and that their safety is your responsibility as we walk aro
 und the site.\r\nAs it is early in the morning, please wrap up very wa
 rm and bring umbrellas and raincoats. Suitable footwear should be worn
  that is easy to walk in and will keep your feet warm and dry. Walking
  shoes/boots or comfy trainers are recommended. Even if it rains the 
 birds are still singing! We will still go ahead if it is raining but p
 lease dress appropriately and bring umbrellas. You can check our socia
 l media: Facebook, Instagram and Bluesky for updates. Search Friends o
 f Railway Fields.\r\nTechnology can really help us to learn so we reco
 mmend you download the Merlin App from here to your smartphone (if you
  have one) as we will be using as part of the walk.\r\nBirdex is also
  fun for keeping lists of your sightings.\r\nFeel free to bring binocu
 lars, bird books and your own knowledge to the gathering. \r\nWe will
  have a gentle guided walk together but you will also be encouraged to
  walk around the site to explore and listen alone. \r\nTea and coffee
  will be available after the walk in the cabin. The event will end aro
 und 6am.\r\nThe event is free but we welcome donations. You can pay wi
 th a card, cash or via a QR card. Please speak to a steward on the day
  to make a donation.\r\nPlease note there is no car parking on the sit
 e\r\nEmail: friendsofrailwayfields@gmail.com if you have further quest
 ions\r\n\r\n\n\nFor more information visit https://harringayonline.com
 /events/dawn-chorus-at-railway-fields-1
DTSTART;TZID=Europe/London:20260425T050000
DTEND;TZID=Europe/London:20260425T060000
CATEGORIES:"railway fields", nature, "dawn chorus"
LOCATION:Railway Fields (meet outside the gates)
WEBSITE:https://friendsofrailwayfields.wordpress.com/
URL:https://friendsofrailwayfields.wordpress.com/
CONTACT:
ORGANIZER;CN=Liz:https://harringayonline.com/profile/Liz
ATTACH;FMTTYPE="image/jpeg":https://storage.ning.com/topology/rest/1.0
 /file/get/31135257294?profile=original
ATTENDEE;ROLE=REQ-PARTICIPANT;PARTSTAT=ACCEPTED;RSVP=TRUE;CN=Liz:https
 ://harringayonline.com/profile/Liz
END:VEVENT
END:VCALENDAR
