BEGIN:VCALENDAR
PRODID:NingEventWidget-v1
VERSION:2.0
METHOD:PUBLISH
BEGIN:VTIMEZONE
TZID:Europe/London
X-LIC-LOCATION:Europe/London
BEGIN:DAYLIGHT
TZOFFSETFROM:+0000
TZOFFSETTO:+0100
TZNAME:BST
DTSTART:19700329T010000
RRULE:FREQ=YEARLY;BYMONTH=3;BYDAY=-1SU
END:DAYLIGHT
BEGIN:STANDARD
TZOFFSETFROM:+0100
TZOFFSETTO:+0000
TZNAME:GMT
DTSTART:19701025T020000
RRULE:FREQ=YEARLY;BYMONTH=10;BYDAY=-1SU
END:STANDARD
END:VTIMEZONE
BEGIN:VEVENT
UID:844301:Event:1618689
DTSTAMP:20260423T035804Z
SUMMARY:Cumberland Road Open Studios
DESCRIPTION:40 Cumberland Road Studios – Open Studios at Open House 
 Festival\n \n \nInstagram @cumberland_road_studios\n \nMeet the cre
 ative community at 40 Cumberland Road London N22 7BU, working in an an
 onymous brick 1980s building.\n \nWhat was once Haringey Council offi
 ces has been re-purposed into affordable studios in the heart of Wood 
 Green.  This building illustrates how redundant spaces can be transfo
 rmed into a base for the creative industries, one of the UK’s highes
 t value exports.\n \nWe will be opening up to public view the workspa
 ces of film makers, painters, graphic designers, photographers, sculpt
 ors and stylists. \n \nExplore the building and see how chairs, hats
 , saddles, logos, portraits and musical instruments are made and talk 
 to the people who make them.\n \nJoin us throughout the weekend for d
 emonstrations, workshops and talks.\n \n \n20th & 21st September\n12
  noon – 6pm\n \n40 Cumberland Road\nLondon N22 7BU\n \n\nFor more 
 information visit https://harringayonline.com/events/cumberland-road-o
 pen-studios
DTSTART;TZID=Europe/London:20250920T000000
DTEND;TZID=Europe/London:20250921T235900
CATEGORIES:open, studios
LOCATION:Cumberland Road
WEBSITE:https://www.instagram.com/cumberland_road_studios/
URL:https://www.instagram.com/cumberland_road_studios/
CONTACT:
ORGANIZER;CN="Steph Rubbo":https://harringayonline.com/profile/StephRu
 bbo
ATTACH;FMTTYPE="image/jpeg":
ATTENDEE;ROLE=REQ-PARTICIPANT;PARTSTAT=ACCEPTED;RSVP=TRUE;CN="Steph Ru
 bbo":https://harringayonline.com/profile/StephRubbo
END:VEVENT
END:VCALENDAR
