BEGIN:VCALENDAR
PRODID:NingEventWidget-v1
VERSION:2.0
METHOD:PUBLISH
BEGIN:VTIMEZONE
TZID:Europe/London
X-LIC-LOCATION:Europe/London
BEGIN:DAYLIGHT
TZOFFSETFROM:+0000
TZOFFSETTO:+0100
TZNAME:BST
DTSTART:19700329T010000
RRULE:FREQ=YEARLY;BYMONTH=3;BYDAY=-1SU
END:DAYLIGHT
BEGIN:STANDARD
TZOFFSETFROM:+0100
TZOFFSETTO:+0000
TZNAME:GMT
DTSTART:19701025T020000
RRULE:FREQ=YEARLY;BYMONTH=10;BYDAY=-1SU
END:STANDARD
END:VTIMEZONE
BEGIN:VEVENT
UID:844301:Event:1635181
DTSTAMP:20260424T202035Z
SUMMARY:Crouch End Players Present Under Milk Wood
DESCRIPTION:\nThe Crouch End Players are delighted to present a dramat
 ised reading of Under Milk Wood by Dylan Thomas, directed by Rachel Ha
 rris.\n \nStep into the dreamlike seaside town of Llareggub and spend
  a day among its eccentric and lovable residents, brought vividly to l
 ife through a rich tapestry of voices and storytelling.\n \nThis spec
 ial performance takes place in the beautiful surroundings of Holy Inno
 cents Church, creating the perfect atmosphere for Thomas’s poetic, h
 umorous and deeply human masterpiece.\n \nJoin us for an evening of u
 nforgettable theatre as we begin our new season.Suitable for 11+.\nN.B
 . Filming may take place during some performances\n \nLocation:​​
 \nHoly Innocents Church\n134 Tottenham Lane\nLondon\nN8 7EL\nwww.crouc
 hendplayers.co.uk\n\nFor more information visit https://harringayonlin
 e.com/events/crouch-end-players-present-under-milk-wood
DTSTART;TZID=Europe/London:20260326T193000
DTEND;TZID=Europe/London:20260328T213000
CATEGORIES:"theatre” ", "drama”", "plays” ", "entertainment”"
LOCATION:Holy Innocents Church
WEBSITE:http://www.crouchendplayers.co.uk
URL:http://www.crouchendplayers.co.uk
CONTACT:
ORGANIZER;CN="Vic Upson":https://harringayonline.com/profile/VicUpson
ATTACH;FMTTYPE="image/jpeg":https://storage.ning.com/topology/rest/1.0
 /file/get/31099425657?profile=original
ATTENDEE;ROLE=REQ-PARTICIPANT;PARTSTAT=ACCEPTED;RSVP=TRUE;CN="Vic Upso
 n":https://harringayonline.com/profile/VicUpson
END:VEVENT
END:VCALENDAR
