BEGIN:VCALENDAR
PRODID:NingEventWidget-v1
VERSION:2.0
METHOD:PUBLISH
BEGIN:VTIMEZONE
TZID:Europe/London
X-LIC-LOCATION:Europe/London
BEGIN:DAYLIGHT
TZOFFSETFROM:+0000
TZOFFSETTO:+0100
TZNAME:BST
DTSTART:19700329T010000
RRULE:FREQ=YEARLY;BYMONTH=3;BYDAY=-1SU
END:DAYLIGHT
BEGIN:STANDARD
TZOFFSETFROM:+0100
TZOFFSETTO:+0000
TZNAME:GMT
DTSTART:19701025T020000
RRULE:FREQ=YEARLY;BYMONTH=10;BYDAY=-1SU
END:STANDARD
END:VTIMEZONE
BEGIN:VEVENT
UID:844301:Event:1500806
DTSTAMP:20260425T235144Z
SUMMARY:Crouch End Open Studios -Family Mosaic Workshop from 10.30am S
 aturday 10th September
DESCRIPTION:Children and adults are invited to join CEOS mosaicist Bar
 bara Mansi on Saturday 10 September in creating beautiful new mosaics.
  These will be displayed in the Hornsey Children Library. You can come
  along anytime, start a new piece or continue what someone else has st
 arted. The aim is to have fun creating beautiful work together.\r\nYou
  will be using a variety of material such as broken tiles or china, bo
 ttle tops, buttons, pebbles, stones, old CDs and wires on pre-prepared
  small pieces of wood.\r\nPlease bring along anything you can spare of
  the material mentioned above or anything that you think might be appr
 opriate and Barbara will help you along the way.\n\nFor more informati
 on visit https://harringayonline.com/events/crouch-end-open-studios-mo
 saic-family-workshop-from-10-30am
DTSTART;TZID=Europe/London:20220910T100000
DTEND;TZID=Europe/London:20220910T170000
CATEGORIES:"family fun", family, mosaic, "workshop\""
LOCATION:Hornsey Children's Library
WEBSITE:https://crouchendopenstudios.org.uk
URL:https://crouchendopenstudios.org.uk
CONTACT:
ORGANIZER;CN="Crouch End Open Studios":https://harringayonline.com/pro
 file/CommunityArtsFestival
ATTACH;FMTTYPE="image/jpeg":https://storage.ning.com/topology/rest/1.0
 /file/get/10746322863?profile=original
ATTENDEE;ROLE=REQ-PARTICIPANT;PARTSTAT=ACCEPTED;RSVP=TRUE;CN="Crouch E
 nd Open Studios":https://harringayonline.com/profile/CommunityArtsFest
 ival
END:VEVENT
END:VCALENDAR
