BEGIN:VCALENDAR
PRODID:NingEventWidget-v1
VERSION:2.0
METHOD:PUBLISH
BEGIN:VTIMEZONE
TZID:Europe/London
X-LIC-LOCATION:Europe/London
BEGIN:DAYLIGHT
TZOFFSETFROM:+0000
TZOFFSETTO:+0100
TZNAME:BST
DTSTART:19700329T010000
RRULE:FREQ=YEARLY;BYMONTH=3;BYDAY=-1SU
END:DAYLIGHT
BEGIN:STANDARD
TZOFFSETFROM:+0100
TZOFFSETTO:+0000
TZNAME:GMT
DTSTART:19701025T020000
RRULE:FREQ=YEARLY;BYMONTH=10;BYDAY=-1SU
END:STANDARD
END:VTIMEZONE
BEGIN:VEVENT
UID:844301:Event:1500791
DTSTAMP:20260421T185823Z
SUMMARY:Crouch End Open Studios Art Trail 2022
DESCRIPTION:Art Trail | Saturday 17 - Sunday 18th September | 12PM - 6
 PM\nThe 60 selected artists in this year's Crouch End Open Studios wil
 l be opening their doors to the public over the weekend of 17/18 Septe
 mber. With a huge range of artists and styles, there will be something
  for everyone. From painting, ceramics, glass, drawing, mixed media, p
 hotography, print and sculpture.\n\nFor more information visit https:/
 /harringayonline.com/events/crouch-end-open-studios-art-trail-2022
DTSTART;TZID=Europe/London:20220917T120000
DTEND;TZID=Europe/London:20220918T180000
CATEGORIES:art, "community art festival"
LOCATION:Around Crouch End - Check website for details
WEBSITE:https://crouchendopenstudios.org.uk
URL:https://crouchendopenstudios.org.uk
CONTACT:
ORGANIZER:Crouch End Open Studios
ATTACH;FMTTYPE="image/jpeg":https://storage.ning.com/topology/rest/1.0
 /file/get/10746255076?profile=original
ATTENDEE;ROLE=REQ-PARTICIPANT;PARTSTAT=ACCEPTED;RSVP=TRUE;CN="Crouch E
 nd Open Studios":https://harringayonline.com/profile/CommunityArtsFest
 ival
END:VEVENT
END:VCALENDAR
