BEGIN:VCALENDAR
PRODID:NingEventWidget-v1
VERSION:2.0
METHOD:PUBLISH
BEGIN:VTIMEZONE
TZID:Europe/London
X-LIC-LOCATION:Europe/London
BEGIN:DAYLIGHT
TZOFFSETFROM:+0000
TZOFFSETTO:+0100
TZNAME:BST
DTSTART:19700329T010000
RRULE:FREQ=YEARLY;BYMONTH=3;BYDAY=-1SU
END:DAYLIGHT
BEGIN:STANDARD
TZOFFSETFROM:+0100
TZOFFSETTO:+0000
TZNAME:GMT
DTSTART:19701025T020000
RRULE:FREQ=YEARLY;BYMONTH=10;BYDAY=-1SU
END:STANDARD
END:VTIMEZONE
BEGIN:VEVENT
UID:844301:Event:1502097
DTSTAMP:20260423T210138Z
SUMMARY:Crouch End Gin Festival
DESCRIPTION:\n\nFor more information visit https://harringayonline.com
 /events/crouch-end-gin-festival
DTSTART;TZID=Europe/London:20220903T000000
DTEND;TZID=Europe/London:20220903T235900
CATEGORIES:festival
LOCATION:North London (See poster/website for details)
WEBSITE:http://www.crouchendginfestival.com
URL:http://www.crouchendginfestival.com
CONTACT:
ORGANIZER;CN="HoL Site Admin":https://harringayonline.com/profile/Site
 Admin
ATTACH;FMTTYPE="image/jpeg":https://storage.ning.com/topology/rest/1.0
 /file/get/10761171870?profile=original
ATTENDEE;ROLE=REQ-PARTICIPANT;PARTSTAT=ACCEPTED;RSVP=TRUE;CN="HoL Site
  Admin":https://harringayonline.com/profile/SiteAdmin
END:VEVENT
END:VCALENDAR
