BEGIN:VCALENDAR
PRODID:NingEventWidget-v1
VERSION:2.0
METHOD:PUBLISH
BEGIN:VTIMEZONE
TZID:Europe/London
X-LIC-LOCATION:Europe/London
BEGIN:DAYLIGHT
TZOFFSETFROM:+0000
TZOFFSETTO:+0100
TZNAME:BST
DTSTART:19700329T010000
RRULE:FREQ=YEARLY;BYMONTH=3;BYDAY=-1SU
END:DAYLIGHT
BEGIN:STANDARD
TZOFFSETFROM:+0100
TZOFFSETTO:+0000
TZNAME:GMT
DTSTART:19701025T020000
RRULE:FREQ=YEARLY;BYMONTH=10;BYDAY=-1SU
END:STANDARD
END:VTIMEZONE
BEGIN:VEVENT
UID:844301:Event:1573278
DTSTAMP:20260423T004029Z
SUMMARY:Crouch End and District u3a Open Day
DESCRIPTION:The u3a is a lifelong learning organisation for anyone no 
 longer in full-time employment and if you would like to find out more,
  the Crouch End and District u3a (CEDu3a) is holding an Open Day on Th
 ursday 30 May at the Hornsey Vale Community Centre, 60 Mayfield Road N
 8 9LP. The Open Day runs from 10.30 am to 12.30pm.\n \nWith over 1000
  members, CEDu3a is a friendly and welcoming organisation built around
  the skills, knowledge and life experiences of its members and offers 
 a wide range of activities including talks from expert speakers, inter
 est groups, quizzes, coffee mornings, ceilidhs, summer parties and oth
 er social and leisure activities.\n\nFor more information visit https:
 //harringayonline.com/events/crouch-end-and-district-u3a-open-day
DTSTART;TZID=Europe/London:20240530T103000
DTEND;TZID=Europe/London:20240530T123000
CATEGORIES:u3a, "'life-long", "learning'"
LOCATION:Hornsey Vale Community Centre
WEBSITE:https://cedu3a.org.uk/open-day-2024/
URL:https://cedu3a.org.uk/open-day-2024/
CONTACT:02083741697
ORGANIZER;CN="Graham Bennett":https://harringayonline.com/profile/Grah
 amBennett
ATTACH;FMTTYPE="image/jpeg":https://storage.ning.com/topology/rest/1.0
 /file/get/12545535084?profile=original
ATTENDEE;ROLE=REQ-PARTICIPANT;PARTSTAT=ACCEPTED;RSVP=TRUE;CN="Paul Sop
 er":https://harringayonline.com/profile/PaulSoper
ATTENDEE;ROLE=REQ-PARTICIPANT;PARTSTAT=ACCEPTED;RSVP=TRUE;CN="Graham B
 ennett":https://harringayonline.com/profile/GrahamBennett
END:VEVENT
END:VCALENDAR
