BEGIN:VCALENDAR
PRODID:NingEventWidget-v1
VERSION:2.0
METHOD:PUBLISH
BEGIN:VTIMEZONE
TZID:Europe/London
X-LIC-LOCATION:Europe/London
BEGIN:DAYLIGHT
TZOFFSETFROM:+0000
TZOFFSETTO:+0100
TZNAME:BST
DTSTART:19700329T010000
RRULE:FREQ=YEARLY;BYMONTH=3;BYDAY=-1SU
END:DAYLIGHT
BEGIN:STANDARD
TZOFFSETFROM:+0100
TZOFFSETTO:+0000
TZNAME:GMT
DTSTART:19701025T020000
RRULE:FREQ=YEARLY;BYMONTH=10;BYDAY=-1SU
END:STANDARD
END:VTIMEZONE
BEGIN:VEVENT
UID:844301:Event:1634035
DTSTAMP:20260424T232832Z
SUMMARY:Country Night
DESCRIPTION:This Saturday the Langham is Holding another Country Night
  due to the last one being so popular.\nLive DJ \nGrab your cowboy ha
 t (not necessarily) and rodeo down to the Langham, \n\n\nFor more inf
 ormation visit https://harringayonline.com/events/country-night-1
DTSTART;TZID=Europe/London:20260228T203000
DTEND;TZID=Europe/London:20260228T234500
CATEGORIES:country, night
LOCATION:The Langham Club
WEBSITE:
URL:
CONTACT:
ORGANIZER;CN=Carla:https://harringayonline.com/profile/Carla
ATTACH;FMTTYPE="image/jpeg":https://storage.ning.com/topology/rest/1.0
 /file/get/31093781288?profile=original
ATTENDEE;ROLE=REQ-PARTICIPANT;PARTSTAT=ACCEPTED;RSVP=TRUE;CN=Carla:htt
 ps://harringayonline.com/profile/Carla
END:VEVENT
END:VCALENDAR
