BEGIN:VCALENDAR
PRODID:NingEventWidget-v1
VERSION:2.0
METHOD:PUBLISH
BEGIN:VTIMEZONE
TZID:Europe/London
X-LIC-LOCATION:Europe/London
BEGIN:DAYLIGHT
TZOFFSETFROM:+0000
TZOFFSETTO:+0100
TZNAME:BST
DTSTART:19700329T010000
RRULE:FREQ=YEARLY;BYMONTH=3;BYDAY=-1SU
END:DAYLIGHT
BEGIN:STANDARD
TZOFFSETFROM:+0100
TZOFFSETTO:+0000
TZNAME:GMT
DTSTART:19701025T020000
RRULE:FREQ=YEARLY;BYMONTH=10;BYDAY=-1SU
END:STANDARD
END:VTIMEZONE
BEGIN:VEVENT
UID:844301:Event:1523918
DTSTAMP:20260425T010938Z
SUMMARY:Coppicing Workshop
DESCRIPTION:Join us for a Coppicing Weekend Workshop led by Suz Willia
 ms, a qualified Coppice Worker. Come for one or both days, no experien
 ce needed, you will learn how to safely use the tools for the job and 
 how to go about the task. We will be coppicing some Hazel Trees in Lor
 dship Recreation Ground's Orchard. If there is time we will also be co
 nstructing rustic circular woven fences around young fruit trees using
  the Hazel. All equipment will be provided BUT do come dressed for the
  weather and with waterproof footwear. FREE but places are limited so 
 booking is essential. Sorry, this is not suitable for young children.\
 n\nFor more information visit https://harringayonline.com/events/coppi
 cing-workshop
DTSTART;TZID=Europe/London:20230128T210000
DTEND;TZID=Europe/London:20230129T160000
CATEGORIES:country, crafts, woodworking, skills, apple, orchard
LOCATION:The Hub off Higham road N176NU
WEBSITE:https://www.google.com/maps/@51.5886203,-0.0824091,14z
URL:https://www.google.com/maps/@51.5886203,-0.0824091,14z
CONTACT:0775733202
ORGANIZER;CN="Sally Haywill":https://harringayonline.com/profile/Sally
 Haywill
ATTACH;FMTTYPE="image/jpeg":https://storage.ning.com/topology/rest/1.0
 /file/get/10929855285?profile=original
ATTENDEE;ROLE=REQ-PARTICIPANT;PARTSTAT=ACCEPTED;RSVP=TRUE;CN="Patsy Ni
 ghtingale":https://harringayonline.com/profile/PatsyNightingale
ATTENDEE;ROLE=REQ-PARTICIPANT;PARTSTAT=ACCEPTED;RSVP=TRUE;CN="Sally Ha
 ywill":https://harringayonline.com/profile/SallyHaywill
END:VEVENT
END:VCALENDAR
