BEGIN:VCALENDAR
PRODID:NingEventWidget-v1
VERSION:2.0
METHOD:PUBLISH
BEGIN:VTIMEZONE
TZID:Europe/London
X-LIC-LOCATION:Europe/London
BEGIN:DAYLIGHT
TZOFFSETFROM:+0000
TZOFFSETTO:+0100
TZNAME:BST
DTSTART:19700329T010000
RRULE:FREQ=YEARLY;BYMONTH=3;BYDAY=-1SU
END:DAYLIGHT
BEGIN:STANDARD
TZOFFSETFROM:+0100
TZOFFSETTO:+0000
TZNAME:GMT
DTSTART:19701025T020000
RRULE:FREQ=YEARLY;BYMONTH=10;BYDAY=-1SU
END:STANDARD
END:VTIMEZONE
BEGIN:VEVENT
UID:844301:Event:1504448
DTSTAMP:20260424T052822Z
SUMMARY:Conservation Volunteering Parkland Walk (North)
DESCRIPTION:We’ll be working around the old Tunnel entrances to open
  up the meadow bowl to encourage the ground flora.\n\nClick HERE to si
 gn up for a place\n\nLocation:\n What three words: ///trucks.labels.h
 arp\nGoogle Maps Link\n\nFor more information visit https://harringayo
 nline.com/events/conservation-volunteering-parkland-walk-north
DTSTART;TZID=Europe/London:20220908T100000
DTEND;TZID=Europe/London:20220908T150000
CATEGORIES:volunteering, conservation, nature
LOCATION:Meet at the Holmesdale Road entrance to Parkland Walk, N6 5TJ
WEBSITE:https://www.google.com/maps/place/Parkland+Walk,+London+N6+5TJ
 /@51.5760897,-0.1427998,19z/data=!3m1!4b1!4m13!1m7!3m6!1s0x48761a4b27b
 ab8b9:0xd934e47e67e593!2sHolmesdale+Rd,+London!3b1!8m2!3d51.5755091!4d
 -0.1418029!3m4!1s0x48761a4ac4c9216f:0x1c8d918bf52b233e!8m2!3d51.576069
 1!4d-0.1422325
URL:https://www.google.com/maps/place/Parkland+Walk,+London+N6+5TJ/@51
 .5760897,-0.1427998,19z/data=!3m1!4b1!4m13!1m7!3m6!1s0x48761a4b27bab8b
 9:0xd934e47e67e593!2sHolmesdale+Rd,+London!3b1!8m2!3d51.5755091!4d-0.1
 418029!3m4!1s0x48761a4ac4c9216f:0x1c8d918bf52b233e!8m2!3d51.5760691!4d
 -0.1422325
CONTACT:
ORGANIZER:TCV Haringey (Railway Fields Nature Reserve)
ATTACH;FMTTYPE="image/jpeg":https://storage.ning.com/topology/rest/1.0
 /file/get/10792724090?profile=original
ATTENDEE;ROLE=REQ-PARTICIPANT;PARTSTAT=ACCEPTED;RSVP=TRUE;CN="TCV Hari
 ngey":https://harringayonline.com/profile/RailwayFields
END:VEVENT
END:VCALENDAR
