BEGIN:VCALENDAR
PRODID:NingEventWidget-v1
VERSION:2.0
METHOD:PUBLISH
BEGIN:VTIMEZONE
TZID:Europe/London
X-LIC-LOCATION:Europe/London
BEGIN:DAYLIGHT
TZOFFSETFROM:+0000
TZOFFSETTO:+0100
TZNAME:BST
DTSTART:19700329T010000
RRULE:FREQ=YEARLY;BYMONTH=3;BYDAY=-1SU
END:DAYLIGHT
BEGIN:STANDARD
TZOFFSETFROM:+0100
TZOFFSETTO:+0000
TZNAME:GMT
DTSTART:19701025T020000
RRULE:FREQ=YEARLY;BYMONTH=10;BYDAY=-1SU
END:STANDARD
END:VTIMEZONE
BEGIN:VEVENT
UID:844301:Event:1628450
DTSTAMP:20260423T161238Z
SUMMARY:Comedy at the Lane by Jacksons Lane
DESCRIPTION:As a leading comedy venue since the 1980s — which helped
  launch the careers of Eddie Izzard, The Mighty Boosh, Shappi Khorsand
 i, Micky Flanagan and many more — Jacksons Lane welcomes the return 
 of a new regular comedy night, featuring both established acts and the
  stars of tomorrow.\n\nExpect an evening of sharp comedy, fresh talent
  and brilliant performances.\n\nFor more information visit https://har
 ringayonline.com/events/comedy-at-the-lane-by-jacksons-lane
DTSTART;TZID=Europe/London:20260213T193000
DTEND;TZID=Europe/London:20260213T203000
CATEGORIES:theatre, comedy
LOCATION:Jacksons Lane
WEBSITE:https://www.jacksonslane.org.uk/events/comedy-at-the-lane/
URL:https://www.jacksonslane.org.uk/events/comedy-at-the-lane/
CONTACT:020 8340 5226
ORGANIZER;CN="Jacksons Lane":https://harringayonline.com/profile/Jacks
 onsLane899
ATTACH;FMTTYPE="image/jpeg":https://storage.ning.com/topology/rest/1.0
 /file/get/31044937301?profile=original
ATTENDEE;ROLE=REQ-PARTICIPANT;PARTSTAT=ACCEPTED;RSVP=TRUE;CN="Jacksons
  Lane":https://harringayonline.com/profile/JacksonsLane899
END:VEVENT
END:VCALENDAR
