BEGIN:VCALENDAR
PRODID:NingEventWidget-v1
VERSION:2.0
METHOD:PUBLISH
BEGIN:VTIMEZONE
TZID:Europe/London
X-LIC-LOCATION:Europe/London
BEGIN:DAYLIGHT
TZOFFSETFROM:+0000
TZOFFSETTO:+0100
TZNAME:BST
DTSTART:19700329T010000
RRULE:FREQ=YEARLY;BYMONTH=3;BYDAY=-1SU
END:DAYLIGHT
BEGIN:STANDARD
TZOFFSETFROM:+0100
TZOFFSETTO:+0000
TZNAME:GMT
DTSTART:19701025T020000
RRULE:FREQ=YEARLY;BYMONTH=10;BYDAY=-1SU
END:STANDARD
END:VTIMEZONE
BEGIN:VEVENT
UID:844301:Event:1517423
DTSTAMP:20260424T105719Z
SUMMARY:Volunteering Coldfall Wood
DESCRIPTION:Thursday 8th December\n10am – 3pm\nColdfall  Wood\n \n
 We’ll be back in the wetland area managing willow, bramble and the s
 treams.\n \nMAP/meet: Entrance on Creighton Avenue opposite Beech Dri
 ve N2 9BJ\n \n\nFor more information visit https://harringayonline.co
 m/events/coldfall-wood
DTSTART;TZID=Europe/London:20221208T100000
DTEND;TZID=Europe/London:20221208T150000
CATEGORIES:nature, conservation, volunteering
LOCATION:MAP/meet: Entrance on Creighton Avenue opposite Beech Drive N
 2 9BJ
WEBSITE:https://www.google.co.uk/maps/dir//51.5950855,-0.1585335/@51.5
 949216,-0.1599738,16.54z/data=!4m2!4m1!3e2
URL:https://www.google.co.uk/maps/dir//51.5950855,-0.1585335/@51.59492
 16,-0.1599738,16.54z/data=!4m2!4m1!3e2
CONTACT:
ORGANIZER;CN="TCV Haringey":https://harringayonline.com/profile/Railwa
 yFields
ATTACH;FMTTYPE="image/jpeg":https://storage.ning.com/topology/rest/1.0
 /file/get/10888647258?profile=original
ATTENDEE;ROLE=REQ-PARTICIPANT;PARTSTAT=ACCEPTED;RSVP=TRUE;CN="TCV Hari
 ngey":https://harringayonline.com/profile/RailwayFields
END:VEVENT
END:VCALENDAR
