BEGIN:VCALENDAR
PRODID:NingEventWidget-v1
VERSION:2.0
METHOD:PUBLISH
BEGIN:VTIMEZONE
TZID:Europe/London
X-LIC-LOCATION:Europe/London
BEGIN:DAYLIGHT
TZOFFSETFROM:+0000
TZOFFSETTO:+0100
TZNAME:BST
DTSTART:19700329T010000
RRULE:FREQ=YEARLY;BYMONTH=3;BYDAY=-1SU
END:DAYLIGHT
BEGIN:STANDARD
TZOFFSETFROM:+0100
TZOFFSETTO:+0000
TZNAME:GMT
DTSTART:19701025T020000
RRULE:FREQ=YEARLY;BYMONTH=10;BYDAY=-1SU
END:STANDARD
END:VTIMEZONE
BEGIN:VEVENT
UID:844301:Event:1633411
DTSTAMP:20260423T234421Z
SUMMARY:CLIMATE ANXIETY: free talks, Q&amp;A and refreshments
DESCRIPTION:Join Muswell Hill Sustainability Group and a panel of spea
 kers including Sue Heap, Integrative Psychotherapist and Amy Meek, co-
 founder Kids Against Plastic, for an evening investigating CLIMATE ANX
 IETY: the profound, chronic fear of environmental doom and emotional d
 istress regarding the accelerating climate crisis.\nThis is a growing 
 and worrying issue, particularly impacting the younger generation. So,
  we'll be looking at the facts, and offering advice and inspirational 
 stories on how to identify, manage, discuss, counter and leverage the 
 associate feelings of fear, hopelessness, anger, grief, frustration.\n
 \nBook your free tickets and find out more here\nCan’t make it? J
 oin us by livestream here\nPlease spare 5 minutes to fill in our EC
 O-WORRIERS questionnairehere. It’s anonymous, for all ages, and wil
 l inform our discussions on the evening\n\n\n\nFor more information vi
 sit https://harringayonline.com/events/climate-anxiety-free-talks-q-am
 p-a-and-refreshments
DTSTART;TZID=Europe/London:20260302T193000
DTEND;TZID=Europe/London:20260302T210000
CATEGORIES:eco-anxiety, "climate anxiety'", "free talk", "climate cris
 is", "muswell hill"
LOCATION:Muswell Hill
WEBSITE:https://mhmc.org.uk/
URL:https://mhmc.org.uk/
CONTACT:07968963456
ORGANIZER;CN="Lisa Jones":https://harringayonline.com/profile/LisaJone
 s344
ATTACH;FMTTYPE="image/jpeg":https://storage.ning.com/topology/rest/1.0
 /file/get/31087859495?profile=original
ATTENDEE;ROLE=REQ-PARTICIPANT;PARTSTAT=ACCEPTED;RSVP=TRUE;CN="Lisa Jon
 es":https://harringayonline.com/profile/LisaJones344
END:VEVENT
END:VCALENDAR
