BEGIN:VCALENDAR
PRODID:NingEventWidget-v1
VERSION:2.0
METHOD:PUBLISH
BEGIN:VTIMEZONE
TZID:Europe/London
X-LIC-LOCATION:Europe/London
BEGIN:DAYLIGHT
TZOFFSETFROM:+0000
TZOFFSETTO:+0100
TZNAME:BST
DTSTART:19700329T010000
RRULE:FREQ=YEARLY;BYMONTH=3;BYDAY=-1SU
END:DAYLIGHT
BEGIN:STANDARD
TZOFFSETFROM:+0100
TZOFFSETTO:+0000
TZNAME:GMT
DTSTART:19701025T020000
RRULE:FREQ=YEARLY;BYMONTH=10;BYDAY=-1SU
END:STANDARD
END:VTIMEZONE
BEGIN:VEVENT
UID:844301:Event:1637184
DTSTAMP:20260423T171944Z
SUMMARY:Last chance to enter: Children's Photo Competition
DESCRIPTION:\n\nFor more information visit https://harringayonline.com
 /events/children-s-photo-competition
DTSTART;TZID=Europe/London:20260430T000000
DTEND;TZID=Europe/London:20260430T235900
CATEGORIES:kids, photo
LOCATION:Alexandra Park
WEBSITE:http://www.friendsofalexandrapark.org
URL:http://www.friendsofalexandrapark.org
CONTACT:
ORGANIZER;CN="Stephen Middleton":https://harringayonline.com/profile/S
 tephenMiddleton
ATTACH;FMTTYPE="image/jpeg":https://storage.ning.com/topology/rest/1.0
 /file/get/31125800663?profile=original
ATTENDEE;ROLE=REQ-PARTICIPANT;PARTSTAT=ACCEPTED;RSVP=TRUE;CN="Stephen 
 Middleton":https://harringayonline.com/profile/StephenMiddleton
END:VEVENT
END:VCALENDAR
