BEGIN:VCALENDAR
PRODID:NingEventWidget-v1
VERSION:2.0
METHOD:PUBLISH
BEGIN:VTIMEZONE
TZID:Europe/London
X-LIC-LOCATION:Europe/London
BEGIN:DAYLIGHT
TZOFFSETFROM:+0000
TZOFFSETTO:+0100
TZNAME:BST
DTSTART:19700329T010000
RRULE:FREQ=YEARLY;BYMONTH=3;BYDAY=-1SU
END:DAYLIGHT
BEGIN:STANDARD
TZOFFSETFROM:+0100
TZOFFSETTO:+0000
TZNAME:GMT
DTSTART:19701025T020000
RRULE:FREQ=YEARLY;BYMONTH=10;BYDAY=-1SU
END:STANDARD
END:VTIMEZONE
BEGIN:VEVENT
UID:844301:Event:1544094
DTSTAMP:20260422T202325Z
SUMMARY:Chestival - Chestnuts School Summer Fayre
DESCRIPTION:Chestnuts School is holding its annual Summer Fayre 'Chest
 ival' on Saturday 8th Jul 1-5pm on La Rose Lane N15 3AS.\nWe have lot
 s of fun activities on offer including face painting, a bouncy castle,
  music, food and drink and much much more... so please join our school
  community for a fun day out. All welcome!!\n\nFor more information v
 isit https://harringayonline.com/events/chestival-chestnuts-school-sum
 mer-fayre-1
DTSTART;TZID=Europe/London:20230708T130000
DTEND;TZID=Europe/London:20230708T170000
CATEGORIES:"'summer", "fayre'"
LOCATION:Chestnuts Primary School
WEBSITE:
URL:
CONTACT:
ORGANIZER;CN="Elizabeth Rae":https://harringayonline.com/profile/Eliza
 bethRae
ATTACH;FMTTYPE="image/jpeg":https://storage.ning.com/topology/rest/1.0
 /file/get/12131093262?profile=original
ATTENDEE;ROLE=REQ-PARTICIPANT;PARTSTAT=ACCEPTED;RSVP=TRUE;CN="Elizabet
 h Rae":https://harringayonline.com/profile/ElizabethRae
END:VEVENT
END:VCALENDAR
