BEGIN:VCALENDAR
PRODID:NingEventWidget-v1
VERSION:2.0
METHOD:PUBLISH
BEGIN:VTIMEZONE
TZID:Europe/London
X-LIC-LOCATION:Europe/London
BEGIN:DAYLIGHT
TZOFFSETFROM:+0000
TZOFFSETTO:+0100
TZNAME:BST
DTSTART:19700329T010000
RRULE:FREQ=YEARLY;BYMONTH=3;BYDAY=-1SU
END:DAYLIGHT
BEGIN:STANDARD
TZOFFSETFROM:+0100
TZOFFSETTO:+0000
TZNAME:GMT
DTSTART:19701025T020000
RRULE:FREQ=YEARLY;BYMONTH=10;BYDAY=-1SU
END:STANDARD
END:VTIMEZONE
BEGIN:VEVENT
UID:844301:Event:1544274
DTSTAMP:20260422T202321Z
SUMMARY:Charity Day Time Quiz (with children's activities)
DESCRIPTION:If you are:\n\n- a parent or carer\n\n- caring for your ch
 ild on Friday day times\n\n- a keen quizzer\n\n- missing adult activit
 ies\n\n- living in or near North London\n\n- a fan of a drink at a pub
 \n\nCome and raise money for 2 local children's organisations at our C
 harity Pub Quiz.\n\nOn Friday 14th July at 12:30pm at the Beehive Pub,
  Tottenham, N17 9BQ. Suggested donation of £10pp.\n\nTo book your pla
 ce, email events@afkcharity.org\n\nFor more information visit https://
 harringayonline.com/events/charity-day-time-quiz-with-children-s-activ
 ities
DTSTART;TZID=Europe/London:20230714T123000
DTEND;TZID=Europe/London:20230714T143000
CATEGORIES:baby, quiz, "'pub", "quiz'", "'family", charity, fundraisin
 g
LOCATION:The Beehive, Stoneleigh Road, N17
WEBSITE:https://maps.app.goo.gl/Pj5JY2wDiiyKhQSr9
URL:https://maps.app.goo.gl/Pj5JY2wDiiyKhQSr9
CONTACT:
ORGANIZER;CN="Eily Livingstone":https://harringayonline.com/profile/Ei
 lyLivingstone
ATTACH;FMTTYPE="image/jpeg":https://storage.ning.com/topology/rest/1.0
 /file/get/12131503467?profile=original
ATTENDEE;ROLE=REQ-PARTICIPANT;PARTSTAT=ACCEPTED;RSVP=TRUE;CN="Eily Liv
 ingstone":https://harringayonline.com/profile/EilyLivingstone
END:VEVENT
END:VCALENDAR
