BEGIN:VCALENDAR
PRODID:NingEventWidget-v1
VERSION:2.0
METHOD:PUBLISH
BEGIN:VTIMEZONE
TZID:Europe/London
X-LIC-LOCATION:Europe/London
BEGIN:DAYLIGHT
TZOFFSETFROM:+0000
TZOFFSETTO:+0100
TZNAME:BST
DTSTART:19700329T010000
RRULE:FREQ=YEARLY;BYMONTH=3;BYDAY=-1SU
END:DAYLIGHT
BEGIN:STANDARD
TZOFFSETFROM:+0100
TZOFFSETTO:+0000
TZNAME:GMT
DTSTART:19701025T020000
RRULE:FREQ=YEARLY;BYMONTH=10;BYDAY=-1SU
END:STANDARD
END:VTIMEZONE
BEGIN:VEVENT
UID:844301:Event:1543725
DTSTAMP:20260422T183748Z
SUMMARY:Chapman's Green Summer Fair July 9
DESCRIPTION: Live music, Stalls, Bouncy Castle and much more\nSunday 
 July 9 12-4pm corner of Lordship Lane/Perth. W3, 144, 243 buses.\n\nFo
 r more information visit https://harringayonline.com/events/chapman-s-
 green-summer-fair-july-9
DTSTART;TZID=Europe/London:20230709T120000
DTEND;TZID=Europe/London:20230709T160000
CATEGORIES:summer, fair
LOCATION:Chapmans green corner of Lordship/Perth
WEBSITE:http://www.chapmanmsgreen.org
URL:http://www.chapmanmsgreen.org
CONTACT:
ORGANIZER;CN="Peter Corley":https://harringayonline.com/profile/PeterC
 orley508
ATTACH;FMTTYPE="image/jpeg":
ATTENDEE;ROLE=REQ-PARTICIPANT;PARTSTAT=ACCEPTED;RSVP=TRUE;CN="Peter Co
 rley":https://harringayonline.com/profile/PeterCorley508
END:VEVENT
END:VCALENDAR
