BEGIN:VCALENDAR
PRODID:NingEventWidget-v1
VERSION:2.0
METHOD:PUBLISH
BEGIN:VTIMEZONE
TZID:Europe/London
X-LIC-LOCATION:Europe/London
BEGIN:DAYLIGHT
TZOFFSETFROM:+0000
TZOFFSETTO:+0100
TZNAME:BST
DTSTART:19700329T010000
RRULE:FREQ=YEARLY;BYMONTH=3;BYDAY=-1SU
END:DAYLIGHT
BEGIN:STANDARD
TZOFFSETFROM:+0100
TZOFFSETTO:+0000
TZNAME:GMT
DTSTART:19701025T020000
RRULE:FREQ=YEARLY;BYMONTH=10;BYDAY=-1SU
END:STANDARD
END:VTIMEZONE
BEGIN:VEVENT
UID:844301:Event:1572661
DTSTAMP:20260424T130142Z
SUMMARY:Ceramics Taster Class
DESCRIPTION:We have a taster class in hand building in ceramics for ad
 ults on Sunday 19th May, 2-4pm. Learn how to make an object of your ch
 oice using a variety of clay techniques. This two hour session gives y
 ou plenty of time to enjoy creating a piece that will be fired and gla
 zed for you to collect. All abilities welcome. \r\nTo book, use the l
 ink above and scroll right down to the bottom of the page.\n\nFor more
  information visit https://harringayonline.com/events/ceramics-taster-
 class
DTSTART;TZID=Europe/London:20240519T140000
DTEND;TZID=Europe/London:20240519T160000
CATEGORIES:pottery, ceramics, clay, classes, thingstodo
LOCATION:Collage Arts Space 2
WEBSITE:http://studiooneceramics.co.uk
URL:http://studiooneceramics.co.uk
CONTACT:07935032995
ORGANIZER;CN="Martha Todd":https://harringayonline.com/profile/MarthaT
 odd977
ATTACH;FMTTYPE="image/jpeg":
ATTENDEE;ROLE=REQ-PARTICIPANT;PARTSTAT=ACCEPTED;RSVP=TRUE;CN="Martha T
 odd":https://harringayonline.com/profile/MarthaTodd977
END:VEVENT
END:VCALENDAR
