BEGIN:VCALENDAR
PRODID:NingEventWidget-v1
VERSION:2.0
METHOD:PUBLISH
BEGIN:VTIMEZONE
TZID:Europe/London
X-LIC-LOCATION:Europe/London
BEGIN:DAYLIGHT
TZOFFSETFROM:+0000
TZOFFSETTO:+0100
TZNAME:BST
DTSTART:19700329T010000
RRULE:FREQ=YEARLY;BYMONTH=3;BYDAY=-1SU
END:DAYLIGHT
BEGIN:STANDARD
TZOFFSETFROM:+0100
TZOFFSETTO:+0000
TZNAME:GMT
DTSTART:19701025T020000
RRULE:FREQ=YEARLY;BYMONTH=10;BYDAY=-1SU
END:STANDARD
END:VTIMEZONE
BEGIN:VEVENT
UID:844301:Event:1515607
DTSTAMP:20260420T224052Z
SUMMARY:Ceramics Open Studios
DESCRIPTION:\nWe are delighted to open our doors to the public, provid
 ing an opportunity to meet the potters and see where they work.  \nA 
 specially curated selection of diverse creations made by 26 potters wi
 ll be on display for sale throughout the weekend. \nAdmission free\nF
 riday 11th November: 12:00-17:00\nPrivate Viewing: 18:00 - 21:00\nSatu
 rday 12th November: 10:00 -18:00\nSunday 13th November: 10:09 -18:00\n
 \n\nFor more information visit https://harringayonline.com/events/cera
 mics-open-studios
DTSTART;TZID=Europe/London:20221111T120000
DTEND;TZID=Europe/London:20221113T180000
CATEGORIES:"‘#petrweiglceramicstudios’", "‘#contemporaryceramics
 ’", "‘#meetthepotters’", "‘#handmadeceramics"
LOCATION:Petr Weigl Ceramic Studios
WEBSITE:http://@petr_weigl_ceramic_studios
URL:http://@petr_weigl_ceramic_studios
CONTACT:07944781279
ORGANIZER;CN=McFiji:https://harringayonline.com/profile/McFiji
ATTACH;FMTTYPE="image/jpeg":https://storage.ning.com/topology/rest/1.0
 /file/get/10878679495?profile=original
ATTENDEE;ROLE=REQ-PARTICIPANT;PARTSTAT=ACCEPTED;RSVP=TRUE;CN=McFiji:ht
 tps://harringayonline.com/profile/McFiji
END:VEVENT
END:VCALENDAR
