BEGIN:VCALENDAR
PRODID:NingEventWidget-v1
VERSION:2.0
METHOD:PUBLISH
BEGIN:VTIMEZONE
TZID:Europe/London
X-LIC-LOCATION:Europe/London
BEGIN:DAYLIGHT
TZOFFSETFROM:+0000
TZOFFSETTO:+0100
TZNAME:BST
DTSTART:19700329T010000
RRULE:FREQ=YEARLY;BYMONTH=3;BYDAY=-1SU
END:DAYLIGHT
BEGIN:STANDARD
TZOFFSETFROM:+0100
TZOFFSETTO:+0000
TZNAME:GMT
DTSTART:19701025T020000
RRULE:FREQ=YEARLY;BYMONTH=10;BYDAY=-1SU
END:STANDARD
END:VTIMEZONE
BEGIN:VEVENT
UID:844301:Event:1570468
DTSTAMP:20260425T132150Z
SUMMARY:Broadwater Farm Repair CafÃ©
DESCRIPTION:We're delighted to invite you to the upcoming Haringey Fix
 ers Repair CafÃ© event hosted at Broadwater Farm.  What to Expect? ðŸŒ
 ± Bring your items for repair â€“ electronics, small furniture, toys a
 nd more! ðŸ”§ Collaborate with our repairers to fix your stuff, learn 
 repair skills on the go. ðŸ‘¥ By booking a free ticket in advance, you
 'll help us ensure that someone with the right skills is there to assi
 st you.  How to Participate? ðŸŽ‰ Save the Date! ðŸ› ï¸ Gather your i
 tems for repair. Maybe google/ youtube the fault? ðŸŽŸï¸ Book a free 
 ticket here in advance to secure your slot. ðŸŒˆ Experience the joy of
  fixing, learning, and connecting!  Why Join? ðŸŒ Promote Sustainabil
 ity: Be a part of the movement towards a greener, more sustainable com
 munity. ðŸ™Œ Learn and Share: Acquire new skills, share your knowledge
 , and make a positive impact.  Let's repair, reuse, and create a posit
 ive impact! See you there! ðŸ› ï¸ðŸŒ¿  Supported by: http://HaringeyF
 ixers.org\n\nFor more information visit https://harringayonline.com/ev
 ents/broadwater-farm-repair-caf
DTSTART;TZID=Europe/London:20240420T103000
DTEND;TZID=Europe/London:20240420T133000
CATEGORIES:sustainability, repair
LOCATION:Broadwater Farm Community Centre, Adams Rd, London N17 6HG
WEBSITE:
URL:
CONTACT:
ORGANIZER;CN="Haringey Fixers":https://harringayonline.com/profile/Har
 ingeyFixers
ATTACH;FMTTYPE="image/jpeg":
ATTENDEE;ROLE=REQ-PARTICIPANT;PARTSTAT=ACCEPTED;RSVP=TRUE;CN="Haringey
  Fixers":https://harringayonline.com/profile/HaringeyFixers
END:VEVENT
END:VCALENDAR
