BEGIN:VCALENDAR
PRODID:NingEventWidget-v1
VERSION:2.0
METHOD:PUBLISH
BEGIN:VTIMEZONE
TZID:Europe/London
X-LIC-LOCATION:Europe/London
BEGIN:DAYLIGHT
TZOFFSETFROM:+0000
TZOFFSETTO:+0100
TZNAME:BST
DTSTART:19700329T010000
RRULE:FREQ=YEARLY;BYMONTH=3;BYDAY=-1SU
END:DAYLIGHT
BEGIN:STANDARD
TZOFFSETFROM:+0100
TZOFFSETTO:+0000
TZNAME:GMT
DTSTART:19701025T020000
RRULE:FREQ=YEARLY;BYMONTH=10;BYDAY=-1SU
END:STANDARD
END:VTIMEZONE
BEGIN:VEVENT
UID:844301:Event:1524860
DTSTAMP:20260422T204601Z
SUMMARY:Broadwater Farm Repair Café Saturday 18th Feb 10:30-1:30pm
DESCRIPTION:What do you do with a chair when the leg has come loose? A
  lamp that no longer works? A toaster that doesn't toast? A holey jump
 er? Throw it away? No way! We are hosting afternoons of fixing and ski
 ll-sharing. Please book here: HaringeyFixers.org Repair Cafés are co
 mmunity events where local people get together to fix broken things an
 d learn new skills. Repair Cafés aim to help people learn to fix thin
 gs, to bring about a shift in consumerism and to throw less away. We s
 kill-share and build community. Bring something that needs fixing and 
 let's fix it - we have experienced fixers who can help. Don't leave it
  in a cupboard or throw it away - fix it. Let us know on the order for
 m what time suits you and what you are bringing. If you have skills yo
 u can share, please come along and help us help others - just book the
  first session and let us know on the order form you can help. You can
  swap skills too if you have broken stuff.   Supported by HaringeyF
 ixers.org  \nSelection of what local people have brought in for help
  repairing since we started in April 2022:\nElectric Toothbrush, cloth
 es that need some attention, cordless kettle, toaster, leather shirt (
 torn sleeve), Electric Oil Heater, cloth bag, broken ceramics, laser p
 rinter, tabletop cooker, mobile phone, shirt, Espresso machine, Bosch 
 Multi-Tool, Leather bag, DVD player, CD Player, portable TV, DAB Radio
 , various laptops, kitchen scale, handheld blender, aromatherapy diffu
 ser, Sony Walkman, ear buds, Henry Vacuum cleaner, fan heater, circula
 r saw, torch, computer monitor, Baby's cot, nightdress, dressing gowns
 , Solar lights, Lampshade, Cafetiere, Kids bikes, food mixer, Bass gui
 tar, small wooden table, hair straighteners, sewing machines aplenty, 
 coffee grinders, garden chairs, Swan Teasmade, power tool (cord sawn t
 hrough), polaroid camera, Amplicomms cordless phone, android and iPhon
 es with problems, hedge trimmer, a tabletop cooker, lampshade, cafetie
 re. A dress that is too big for me along the waist, table fan, tall fa
 n, backpack whose handle at the top has detached, kettle, kids metal d
 etector, toy crow with broken beak, Moth holes in jumpers, a carriage 
 clock. Pendulum not rotating, Flymo mower, Electric Golf cart, Sony PS
 P button sticking.\nPlease come along and help us help others - come t
 o learn, to increase your skills and to share them\n\nFor more informa
 tion visit https://harringayonline.com/events/broadwater-farm-repair-c
 af-saturday-18th-feb-10-30-1-30pm
DTSTART;TZID=Europe/London:20230218T103000
DTEND;TZID=Europe/London:20230218T133000
CATEGORIES:repair, fix, local, café, "circular economy", reuse, recyc
 le
LOCATION:Broadwater Farm Community Centre Café, Adams Road, N17
WEBSITE:https://HaringeyFixers.org
URL:https://HaringeyFixers.org
CONTACT:07887493658
ORGANIZER;CN="Chris Setz":https://harringayonline.com/profile/ChrisSet
 z
ATTACH;FMTTYPE="image/jpeg":
ATTENDEE;ROLE=REQ-PARTICIPANT;PARTSTAT=ACCEPTED;RSVP=TRUE;CN="Chris Se
 tz":https://harringayonline.com/profile/ChrisSetz
END:VEVENT
END:VCALENDAR
