BEGIN:VCALENDAR
PRODID:NingEventWidget-v1
VERSION:2.0
METHOD:PUBLISH
BEGIN:VTIMEZONE
TZID:Europe/London
X-LIC-LOCATION:Europe/London
BEGIN:DAYLIGHT
TZOFFSETFROM:+0000
TZOFFSETTO:+0100
TZNAME:BST
DTSTART:19700329T010000
RRULE:FREQ=YEARLY;BYMONTH=3;BYDAY=-1SU
END:DAYLIGHT
BEGIN:STANDARD
TZOFFSETFROM:+0100
TZOFFSETTO:+0000
TZNAME:GMT
DTSTART:19701025T020000
RRULE:FREQ=YEARLY;BYMONTH=10;BYDAY=-1SU
END:STANDARD
END:VTIMEZONE
BEGIN:VEVENT
UID:844301:Event:1510725
DTSTAMP:20260422T192338Z
SUMMARY:Broadwater Farm Repair Café Saturday 15th October 11am-2pm
DESCRIPTION:What do you do with a chair when the leg has come loose? A
  lamp that no longer works? A toaster that doesn't toast? A holey jump
 er? Throw it away? No way! We are hosting afternoons of fixing and ski
 ll-sharing. Please book here: https://bit.ly/haringeyfixers Repair Ca
 fés are community events where local people get together to fix broke
 n things and learn new skills. Repair Cafés aim to help people learn 
 to fix things, to bring about a shift in consumerism and to throw less
  away. We skill-share and build community. Bring something that needs 
 fixing and let's fix it - we have experienced fixers who can help. Don
 't leave it in a cupboard or throw it away - fix it. Let us know on th
 e order form what time suits you and what you are bringing. If you hav
 e skills you can share, please come along and help us help others - ju
 st book the first session and let us know on the order form you can he
 lp. You can swap skills too if you have broken stuff.   Supported by
  bit.ly/haringeyfixers  \nHere is a selection of the sorts of thing
 s people have brought in so far:\nElectric Toothbrush, cordless kettle
 , toaster, Leather Shirt (torn sleeve), Electric Oil Heater, cloth bag
 , broken ceramics, laser printer, tabletop cooker, mobile phone, shirt
 , Espresso machine, Bosch Multi-Tool, Leather bag, DVD player, CD Play
 er, portable TV, DAB Radio, iPod, Laptop, Baby's cot, nightdress, dres
 sing gowns, Solar lights, Lampshade, Cafetiere, Kids bikes, food mixer
 , Bass guitar, small wooden table, Hair straighteners, Sewing Machine,
  garden chairs, Swan Teasmade, Power tool cord sawn through, Amplicomm
 s cordless phone, A dress that is too big for me along the waist, tabl
 e fan, tall fan, backpack whose handle at the top has detached, kettle
 , kids metal detector, toy crow with broken beak, Portable Frister Ros
 smann Club 4 sewing machine, moth holes in two cashmere jumpers (invis
 ible mend), a carriage clock (pendulum not rotating), Cast iron and gl
 ass Victorian garden cloche, bubble machine, Elvis Clock, Kenwood KMC5
 10, holey jeans, linen jumpsuit\nPlease come along and help us help ot
 hers - come to learn, to increase your skills and to share them\n\nFor
  more information visit https://harringayonline.com/events/broadwater-
 farm-repair-caf-saturday-15th-october-11am-2pm
DTSTART;TZID=Europe/London:20221015T110000
DTEND;TZID=Europe/London:20221015T140000
CATEGORIES:repair, fix, local, café, "circular economy", reuse, recyc
 le
LOCATION:Broadwater Farm Community Centre Café, Adams Road, N17
WEBSITE:https://bit.ly/haringeyfixers
URL:https://bit.ly/haringeyfixers
CONTACT:07887493658
ORGANIZER;CN="Chris Setz":https://harringayonline.com/profile/ChrisSet
 z
ATTACH;FMTTYPE="image/jpeg":
ATTENDEE;ROLE=REQ-PARTICIPANT;PARTSTAT=ACCEPTED;RSVP=TRUE;CN="Chris Se
 tz":https://harringayonline.com/profile/ChrisSetz
END:VEVENT
END:VCALENDAR
